BEGIN_USGS_DOQ_HEADER *
QUADRANGLE_NAME "BELLA VISTA" *
QUADRANT SE *
WEST_LONGITUDE -122 11 15.000 *
EAST_LONGITUDE -122 7 30.000 *
NORTH_LATITUDE 40 41 15.000 *
SOUTH_LATITUDE 40 37 30.000 *
PRODUCTION_DATE 2001 5 8 *
RASTER_ORDER LEFT_RIGHT/TOP_BOTTOM *
BAND_ORGANIZATION "SINGLE FILE" *
BAND_CONTENT BLACK&WHITE *
BITS_PER_PIXEL 8 *
SAMPLES_AND_LINES 6044 7603 *
HORIZONTAL_DATUM NAD83 *
HORIZONTAL_COORDINATE_SYSTEM UTM *
COORDINATE_ZONE 10 *
HORIZONTAL_UNITS METERS *
HORIZONTAL_RESOLUTION 1.0 *
SECONDARY_HORIZONTAL_DATUM NAD27 *
XY_ORIGIN 568260.610 4504735.111 *
SECONDARY_XY_ORIGIN 568356.396 4504538.623 *
NATION US *
STATE CA *
NW_QUAD_CORNER_XY 568654.562 4504384.905 *
NE_QUAD_CORNER_XY 573935.742 4504435.611 *
SE_QUAD_CORNER_XY 574004.777 4497497.809 *
SW_QUAD_CORNER_XY 568718.665 4497447.120 *
SECONDARY_NW_QUAD_XY 568656.398 4504173.574 *
SECONDARY_NE_QUAD_XY 573937.720 4504224.281 *
SECONDARY_SE_QUAD_XY 574006.754 4497286.593 *
SECONDARY_SW_QUAD_XY 568720.500 4497235.903 *
RMSE_XY 0.78 *
IMAGE_SOURCE "BLACK AND WHITE FILM" *
SOURCE_IMAGE_ID "NAPP 10475 28" *
SOURCE_IMAGE_DATE 1998 8 11 *
SOURCE_IMAGE_ID "NAPP 10475 29" *
SOURCE_IMAGE_DATE 1998 8 11 *
SOURCE_IMAGE_ID "NAPP 10475 27" *
SOURCE_IMAGE_DATE 1998 8 11 *
SOURCE_IMAGE_ID "NAPP 10475 116" *
SOURCE_IMAGE_DATE 1998 8 11 *
SOURCE_IMAGE_ID "NAPP 10475 115" *
SOURCE_IMAGE_DATE 1998 8 11 *
SOURCE_IMAGE_ID "NAPP 10475 114" *
SOURCE_IMAGE_DATE 1998 8 11 *
SOURCE_IMAGE_ID "NAPP 10475 12" *
SOURCE_IMAGE_DATE 1998 8 11 *
SOURCE_IMAGE_ID "NAPP 10475 13" *
SOURCE_IMAGE_DATE 1998 8 11 *
SOURCE_IMAGE_ID "NAPP 10475 14" *
SOURCE_IMAGE_DATE 1998 8 11 *
SOURCE_DEM_DATE 2000 0 0 *
AGENCY "WESTERN MAPPING CENTER (WMC)" *
PRODUCER "USDA FS GEOSPATIAL SERVICE AND TECHNOLOGY CENTER" *
PRODUCTION_SYSTEM "ORBIT OR_RECTIFY V.5.2" *
STANDARD_VERSION 1996 12 *
METADATA_DATE 2001 5 16 *
DATA_FILE_SIZE 45958576 *
BYTE_COUNT 6044 * * * * * * * * * * * * * * * * *
END_USGS_HEADER *
