BEGIN_USGS_DOQ_HEADER *
QUADRANGLE_NAME "BELLA VISTA" *
QUADRANT SW *
WEST_LONGITUDE -122 15 0.000 *
EAST_LONGITUDE -122 11 15.000 *
NORTH_LATITUDE 40 41 15.000 *
SOUTH_LATITUDE 40 37 30.000 *
PRODUCTION_DATE 2001 5 8 *
RASTER_ORDER LEFT_RIGHT/TOP_BOTTOM *
BAND_ORGANIZATION "SINGLE FILE" *
BAND_CONTENT BLACK&WHITE *
BITS_PER_PIXEL 8 *
SAMPLES_AND_LINES 6039 7600 *
HORIZONTAL_DATUM NAD83 *
HORIZONTAL_COORDINATE_SYSTEM UTM *
COORDINATE_ZONE 10 *
HORIZONTAL_UNITS METERS *
HORIZONTAL_RESOLUTION 1.0 *
SECONDARY_HORIZONTAL_DATUM NAD27 *
XY_ORIGIN 562979.798 4504684.905 *
SECONDARY_XY_ORIGIN 563075.592 4504488.450 *
NATION US *
STATE CA *
NW_QUAD_CORNER_XY 563373.394 4504337.956 *
NE_QUAD_CORNER_XY 568654.562 4504384.905 *
SE_QUAD_CORNER_XY 568718.665 4497447.120 *
SW_QUAD_CORNER_XY 563432.565 4497400.187 *
SECONDARY_NW_QUAD_XY 563375.091 4504126.623 *
SECONDARY_NE_QUAD_XY 568656.398 4504173.574 *
SECONDARY_SE_QUAD_XY 568720.500 4497235.903 *
SECONDARY_SW_QUAD_XY 563434.261 4497188.968 *
RMSE_XY 0.78 *
IMAGE_SOURCE "BLACK AND WHITE FILM" *
SOURCE_IMAGE_ID "NAPP 10475 115" *
SOURCE_IMAGE_DATE 1998 8 11 *
SOURCE_IMAGE_ID "NAPP 10475 116" *
SOURCE_IMAGE_DATE 1998 8 11 *
SOURCE_IMAGE_ID "NAPP 10475 114" *
SOURCE_IMAGE_DATE 1998 8 11 *
SOURCE_IMAGE_ID "NAPP 10475 181" *
SOURCE_IMAGE_DATE 1998 8 11 *
SOURCE_IMAGE_ID "NAPP 10475 182" *
SOURCE_IMAGE_DATE 1998 8 11 *
SOURCE_IMAGE_ID "NAPP 10475 183" *
SOURCE_IMAGE_DATE 1998 8 11 *
SOURCE_IMAGE_ID "NAPP 10475 29" *
SOURCE_IMAGE_DATE 1998 8 11 *
SOURCE_IMAGE_ID "NAPP 10475 28" *
SOURCE_IMAGE_DATE 1998 8 11 *
SOURCE_IMAGE_ID "NAPP 10475 27" *
SOURCE_IMAGE_DATE 1998 8 11 *
SOURCE_DEM_DATE 2000 0 0 *
AGENCY "WESTERN MAPPING CENTER (WMC)" *
PRODUCER "USDA FS GEOSPATIAL SERVICE AND TECHNOLOGY CENTER" *
PRODUCTION_SYSTEM "ORBIT OR_RECTIFY V.5.2" *
STANDARD_VERSION 1996 12 *
METADATA_DATE 2001 5 16 *
DATA_FILE_SIZE 45902439 *
BYTE_COUNT 6039 * * * * * * * * * * * * * * * * *
END_USGS_HEADER *
