BEGIN_USGS_DOQ_HEADER *
QUADRANGLE_NAME "PROJECT CITY" *
QUADRANT NE *
WEST_LONGITUDE -122 18 45.000 *
EAST_LONGITUDE -122 15 0.000 *
NORTH_LATITUDE 40 45 0.000 *
SOUTH_LATITUDE 40 41 15.000 *
PRODUCTION_DATE 2001 5 8 *
RASTER_ORDER LEFT_RIGHT/TOP_BOTTOM *
BAND_ORGANIZATION "SINGLE FILE" *
BAND_CONTENT BLACK&WHITE *
BITS_PER_PIXEL 8 *
SAMPLES_AND_LINES 6030 7596 *
HORIZONTAL_DATUM NAD83 *
HORIZONTAL_COORDINATE_SYSTEM UTM *
COORDINATE_ZONE 10 *
HORIZONTAL_UNITS METERS *
HORIZONTAL_RESOLUTION 1.0 *
SECONDARY_HORIZONTAL_DATUM NAD27 *
XY_ORIGIN 557643.662 4511575.799 *
SECONDARY_XY_ORIGIN 557739.487 4511379.263 *
NATION US *
STATE CA *
NW_QUAD_CORNER_XY 558037.928 4511232.592 *
NE_QUAD_CORNER_XY 563314.147 4511275.799 *
SE_QUAD_CORNER_XY 563373.394 4504337.956 *
SW_QUAD_CORNER_XY 558092.238 4504294.763 *
SECONDARY_NW_QUAD_XY 558039.485 4511021.145 *
SECONDARY_NE_QUAD_XY 563315.845 4511064.353 *
SECONDARY_SE_QUAD_XY 563375.091 4504126.623 *
SECONDARY_SW_QUAD_XY 558093.793 4504083.429 *
RMSE_XY 0.78 *
IMAGE_SOURCE "BLACK AND WHITE FILM" *
SOURCE_IMAGE_ID "NAPP 10475 184" *
SOURCE_IMAGE_DATE 1998 8 11 *
SOURCE_IMAGE_ID "NAPP 10475 183" *
SOURCE_IMAGE_DATE 1998 8 11 *
SOURCE_IMAGE_ID "NAPP 10494 35" *
SOURCE_IMAGE_DATE 1999 7 29 *
SOURCE_IMAGE_ID "NAPP 10475 196" *
SOURCE_IMAGE_DATE 1998 8 11 *
SOURCE_IMAGE_ID "NAPP 10475 195" *
SOURCE_IMAGE_DATE 1998 8 11 *
SOURCE_IMAGE_ID "NAPP 10494 44" *
SOURCE_IMAGE_DATE 1999 7 29 *
SOURCE_IMAGE_ID "NAPP 10475 114" *
SOURCE_IMAGE_DATE 1998 8 11 *
SOURCE_IMAGE_ID "NAPP 10475 113" *
SOURCE_IMAGE_DATE 1998 8 11 *
SOURCE_IMAGE_ID "NAPP 10481 262" *
SOURCE_IMAGE_DATE 1998 8 14 *
SOURCE_DEM_DATE 2000 0 0 *
AGENCY "WESTERN MAPPING CENTER (WMC)" *
PRODUCER "USDA FS GEOSPATIAL SERVICE AND TECHNOLOGY CENTER" *
PRODUCTION_SYSTEM "ORBIT OR_RECTIFY V.5.2" *
STANDARD_VERSION 1996 12 *
METADATA_DATE 2001 5 16 *
DATA_FILE_SIZE 45809910 *
BYTE_COUNT 6030 * * * * * * * * * * * * * * * * *
END_USGS_HEADER *
