BEGIN_USGS_DOQ_HEADER *
QUADRANGLE_NAME "PROJECT CITY" *
QUADRANT SE *
WEST_LONGITUDE -122 18 45.000 *
EAST_LONGITUDE -122 15 0.000 *
NORTH_LATITUDE 40 41 15.000 *
SOUTH_LATITUDE 40 37 30.000 *
PRODUCTION_DATE 2001 5 8 *
RASTER_ORDER LEFT_RIGHT/TOP_BOTTOM *
BAND_ORGANIZATION "SINGLE FILE" *
BAND_CONTENT BLACK&WHITE *
BITS_PER_PIXEL 8 *
SAMPLES_AND_LINES 6035 7596 *
HORIZONTAL_DATUM NAD83 *
HORIZONTAL_COORDINATE_SYSTEM UTM *
COORDINATE_ZONE 10 *
HORIZONTAL_UNITS METERS *
HORIZONTAL_RESOLUTION 1.0 *
SECONDARY_HORIZONTAL_DATUM NAD27 *
XY_ORIGIN 557698.421 4504637.956 *
SECONDARY_XY_ORIGIN 557794.294 4504441.486 *
NATION US *
STATE CA *
NW_QUAD_CORNER_XY 558092.238 4504294.763 *
NE_QUAD_CORNER_XY 563373.394 4504337.956 *
SE_QUAD_CORNER_XY 563432.565 4497400.187 *
SW_QUAD_CORNER_XY 558146.477 4497357.009 *
SECONDARY_NW_QUAD_XY 558093.793 4504083.429 *
SECONDARY_NE_QUAD_XY 563375.091 4504126.623 *
SECONDARY_SE_QUAD_XY 563434.261 4497188.968 *
SECONDARY_SW_QUAD_XY 558148.032 4497145.789 *
RMSE_XY 0.78 *
IMAGE_SOURCE "BLACK AND WHITE FILM" *
SOURCE_IMAGE_ID "NAPP 10475 182" *
SOURCE_IMAGE_DATE 1998 8 11 *
SOURCE_IMAGE_ID "NAPP 10475 181" *
SOURCE_IMAGE_DATE 1998 8 11 *
SOURCE_IMAGE_ID "NAPP 10475 183" *
SOURCE_IMAGE_DATE 1998 8 11 *
SOURCE_IMAGE_ID "NAPP 10475 198" *
SOURCE_IMAGE_DATE 1998 8 11 *
SOURCE_IMAGE_ID "NAPP 10475 197" *
SOURCE_IMAGE_DATE 1998 8 11 *
SOURCE_IMAGE_ID "NAPP 10475 196" *
SOURCE_IMAGE_DATE 1998 8 11 *
SOURCE_IMAGE_ID "NAPP 10475 116" *
SOURCE_IMAGE_DATE 1998 8 11 *
SOURCE_IMAGE_ID "NAPP 10475 115" *
SOURCE_IMAGE_DATE 1998 8 11 *
SOURCE_IMAGE_ID "NAPP 10475 114" *
SOURCE_IMAGE_DATE 1998 8 11 *
SOURCE_DEM_DATE 2000 0 0 *
AGENCY "WESTERN MAPPING CENTER (WMC)" *
PRODUCER "USDA FS GEOSPATIAL SERVICE AND TECHNOLOGY CENTER" *
PRODUCTION_SYSTEM "ORBIT OR_RECTIFY V.5.2" *
STANDARD_VERSION 1996 12 *
METADATA_DATE 2001 5 16 *
DATA_FILE_SIZE 45847895 *
BYTE_COUNT 6035 * * * * * * * * * * * * * * * * *
END_USGS_HEADER *
