BEGIN_USGS_DOQ_HEADER *
QUADRANGLE_NAME "PROJECT CITY" *
QUADRANT SW *
WEST_LONGITUDE -122 22 30.000 *
EAST_LONGITUDE -122 18 45.000 *
NORTH_LATITUDE 40 41 15.000 *
SOUTH_LATITUDE 40 37 30.000 *
PRODUCTION_DATE 2001 5 8 *
RASTER_ORDER LEFT_RIGHT/TOP_BOTTOM *
BAND_ORGANIZATION "SINGLE FILE" *
BAND_CONTENT BLACK&WHITE *
BITS_PER_PIXEL 8 *
SAMPLES_AND_LINES 6030 7592 *
HORIZONTAL_DATUM NAD83 *
HORIZONTAL_COORDINATE_SYSTEM UTM *
COORDINATE_ZONE 10 *
HORIZONTAL_UNITS METERS *
HORIZONTAL_RESOLUTION 1.0 *
SECONDARY_HORIZONTAL_DATUM NAD27 *
XY_ORIGIN 552416.555 4504594.763 *
SECONDARY_XY_ORIGIN 552512.508 4504398.278 *
NATION US *
STATE CA *
NW_QUAD_CORNER_XY 552811.092 4504255.327 *
NE_QUAD_CORNER_XY 558092.238 4504294.763 *
SE_QUAD_CORNER_XY 558146.477 4497357.009 *
SW_QUAD_CORNER_XY 552860.400 4497317.586 *
SECONDARY_NW_QUAD_XY 552812.506 4504043.992 *
SECONDARY_NE_QUAD_XY 558093.793 4504083.429 *
SECONDARY_SE_QUAD_XY 558148.032 4497145.789 *
SECONDARY_SW_QUAD_XY 552861.813 4497106.365 *
RMSE_XY 0.78 *
IMAGE_SOURCE "BLACK AND WHITE FILM" *
SOURCE_IMAGE_ID "NAPP 10475 197" *
SOURCE_IMAGE_DATE 1998 8 11 *
SOURCE_IMAGE_ID "NAPP 10475 198" *
SOURCE_IMAGE_DATE 1998 8 11 *
SOURCE_IMAGE_ID "NAPP 10475 196" *
SOURCE_IMAGE_DATE 1998 8 11 *
SOURCE_IMAGE_ID "NAPP 10476 37" *
SOURCE_IMAGE_DATE 1998 8 11 *
SOURCE_IMAGE_ID "NAPP 10476 38" *
SOURCE_IMAGE_DATE 1998 8 11 *
SOURCE_IMAGE_ID "NAPP 10476 39" *
SOURCE_IMAGE_DATE 1998 8 11 *
SOURCE_IMAGE_ID "NAPP 10475 181" *
SOURCE_IMAGE_DATE 1998 8 11 *
SOURCE_IMAGE_ID "NAPP 10475 182" *
SOURCE_IMAGE_DATE 1998 8 11 *
SOURCE_IMAGE_ID "NAPP 10475 183" *
SOURCE_IMAGE_DATE 1998 8 11 *
SOURCE_DEM_DATE 2000 0 0 *
AGENCY "WESTERN MAPPING CENTER (WMC)" *
PRODUCER "USDA FS GEOSPATIAL SERVICE AND TECHNOLOGY CENTER" *
PRODUCTION_SYSTEM "ORBIT OR_RECTIFY V.5.2" *
STANDARD_VERSION 1996 12 *
METADATA_DATE 2001 5 16 *
DATA_FILE_SIZE 45785790 *
BYTE_COUNT 6030 * * * * * * * * * * * * * * * * *
END_USGS_HEADER *
