BEGIN_USGS_DOQ_HEADER *
QUADRANGLE_NAME "SHASTA DAM" 3.45 or 7.5-min. name*
QUADRANT NE quadrant indicator if cell size = 3.75-minutes*
WEST_LONGITUDE -122 26 15.000 signed deg min sec SDDD MM SS.SSS*
EAST_LONGITUDE -122 22 30.000 signed deg min sec SDDD MM SS.SSS*
NORTH_LATITUDE 40 45 0.000 signed deg min sec SDDD MM SS.SSS*
SOUTH_LATITUDE 40 41 15.000 signed deg min sec SDDD MM SS.SSS*
PRODUCTION_DATE 1996 12 17 yyyy mm dd*
RASTER_ORDER LEFT_RIGHT/TOP_BOTTOM video display order*
BAND_ORGANIZATION "SINGLE FILE" single file or BSQ, or BIL or BIP*
BAND_CONTENT BLACK&WHITE black&white or red green blue*
BITS_PER_PIXEL 8 radiometric resolution*
SAMPLES_AND_LINES 6024 7592 number of columns and rows*
HORIZONTAL_DATUM NAD83 primary horizontal datum*
HORIZONTAL_COORDINATE_SYSTEM UTM *
COORDINATE_ZONE 10 coordinate system zone number*
HORIZONTAL_UNITS METERS coordinate system units*
HORIZONTAL_RESOLUTION 1.00 pixel horiz. ground sample distance*
SECONDARY_HORIZONTAL_DATUM NAD27 secondary horizontal datum*
XY_ORIGIN 547089.000 4511494.000 coord. of upper left pixel pri. datum*
SECONDARY_XY_ORIGIN 547184.984 4511297.438 coord upper left pixel sec datum*
NATION US nation code*
STATE CA state fip code*
NW_QUAD_CORNER_XY 547485.521 4511157.451 XY coords. of pri. NW quad corner*
NE_QUAD_CORNER_XY 552761.720 4511193.143 XY coords. of pri. NE quad corner*
SE_QUAD_CORNER_XY 552811.092 4504255.327 XY coords. of pri. SE quad corner*
SW_QUAD_CORNER_XY 547529.955 4504219.647 XY coords. of pri. SW quad corner*
SECONDARY_NW_QUAD_XY 547486.792 4510946.000 XY coords. - sec. NW quad cor.*
SECONDARY_NE_QUAD_XY 552763.132 4510981.693 XY coords. - sec. NE quad cor.*
SECONDARY_SE_QUAD_XY 552812.502 4504043.991 XY coords. - sec. SE quad cor.*
SECONDARY_SW_QUAD_XY 547531.225 4504008.310 XY coords. - sec. SW quad cor.*
RMSE_XY 2.30 doq horiz. accuracy*
IMAGE_SOURCE "BLACK AND WHITE FILM" b&w, cir, natural color, other*
SOURCE_IMAGE_ID "NAPP 6249 170" source image id*
SOURCE_IMAGE_DATE 1993 6 13 source image date as yyyy mm dd*
SOURCE_DEM_DATE 1996 12 17 source dem date yyyy mm dd*
AGENCY "WESTERN MAPPING CENTER (WMC)" oversight agency*
PRODUCER "Science Applications International" producer/contractor*
PRODUCTION_SYSTEM "GIS/MAGIC" production system*
STANDARD_VERSION 1996 12 version of DOQ standard*
METADATA_DATE 1997 10 18 date created or changed, yyyy mm dd*
DATA_FILE_SIZE 45740232 data set size in bytes*
BYTE_COUNT 6024 header byte count* * * * * * * * * * * * * * * * * * * * * * * * * * * * * * * * *
END_USGS_HEADER *
