BEGIN_USGS_DOQ_HEADER *
QUADRANGLE_NAME "SHASTA DAM" 3.45 or 7.5-min. name*
QUADRANT NW quadrant indicator if cell size = 3.75-minutes*
WEST_LONGITUDE -122 30 0.000 signed deg min sec SDDD MM SS.SSS*
EAST_LONGITUDE -122 26 15.000 signed deg min sec SDDD MM SS.SSS*
NORTH_LATITUDE 40 45 0.000 signed deg min sec SDDD MM SS.SSS*
SOUTH_LATITUDE 40 41 15.000 signed deg min sec SDDD MM SS.SSS*
PRODUCTION_DATE 1997 4 30 yyyy mm dd*
RASTER_ORDER LEFT_RIGHT/TOP_BOTTOM video display order*
BAND_ORGANIZATION "SINGLE FILE" single file or BSQ, or BIL or BIP*
BAND_CONTENT BLACK&WHITE black&white or red green blue*
BITS_PER_PIXEL 8 radiometric resolution*
SAMPLES_AND_LINES 6018 7588 number of columns and rows*
HORIZONTAL_DATUM NAD83 primary horizontal datum*
HORIZONTAL_COORDINATE_SYSTEM UTM *
COORDINATE_ZONE 10 coordinate system zone number*
HORIZONTAL_UNITS METERS coordinate system units*
HORIZONTAL_RESOLUTION 1.00 pixel horiz. ground sample distance*
SECONDARY_HORIZONTAL_DATUM NAD27 secondary horizontal datum*
XY_ORIGIN 541813.000 4511458.000 coord. of upper left pixel pri. datum*
SECONDARY_XY_ORIGIN 541909.066 4511261.423 coord upper left pixel sec datum*
NATION US nation code*
STATE CA state fip code*
NW_QUAD_CORNER_XY 542209.331 4511125.516 XY coords. of pri. NW quad corner*
NE_QUAD_CORNER_XY 547485.521 4511157.451 XY coords. of pri. NE quad corner*
SE_QUAD_CORNER_XY 547529.955 4504219.647 XY coords. of pri. SE quad corner*
SW_QUAD_CORNER_XY 542248.827 4504187.723 XY coords. of pri. SW quad corner*
SECONDARY_NW_QUAD_XY 542210.460 4510914.065 XY coords. - sec. NW quad cor.*
SECONDARY_NE_QUAD_XY 547486.792 4510946.000 XY coords. - sec. NE quad cor.*
SECONDARY_SE_QUAD_XY 547531.225 4504008.310 XY coords. - sec. SE quad cor.*
SECONDARY_SW_QUAD_XY 542249.956 4503976.385 XY coords. - sec. SW quad cor.*
RMSE_XY 4.10 doq horiz. accuracy*
IMAGE_SOURCE "BLACK AND WHITE FILM" b&w, cir, natural color, other*
SOURCE_IMAGE_ID "NAPP 6262 056" source image id*
SOURCE_IMAGE_DATE 1994 8 15 source image date as yyyy mm dd*
IMAGE_SOURCE "BLACK AND WHITE FILM" b&w, cir, natural color, other*
SOURCE_IMAGE_ID "NAPP 6262 055" source image id*
SOURCE_IMAGE_DATE 1994 8 15 source image date as yyyy mm dd*
IMAGE_SOURCE "BLACK AND WHITE FILM" b&w, cir, natural color, other*
SOURCE_IMAGE_ID "NAPP 6262 057" source image id*
SOURCE_IMAGE_DATE 1994 8 15 source image date as yyyy mm dd*
SOURCE_DEM_DATE 1997 4 30 source dem date yyyy mm dd*
AGENCY "WESTERN MAPPING CENTER (WMC)" oversight agency*
PRODUCER "Science Applications International" producer/contractor*
PRODUCTION_SYSTEM "GIS/MAGIC" production system*
STANDARD_VERSION 1996 12 version of DOQ standard*
METADATA_DATE 1997 10 18 date created or changed, yyyy mm dd*
DATA_FILE_SIZE 45670602 data set size in bytes*
BYTE_COUNT 6018 header byte count* * * * * * * * * * * * * * * * * * * * * * * * * * *
END_USGS_HEADER *
