BEGIN_USGS_DOQ_HEADER *
QUADRANGLE_NAME "SHASTA DAM" *
QUADRANT SE *
WEST_LONGITUDE -122 26 15.000 *
EAST_LONGITUDE -122 22 30.000 *
NORTH_LATITUDE 40 41 15.000 *
SOUTH_LATITUDE 40 37 30.000 *
PRODUCTION_DATE 2001 5 8 *
RASTER_ORDER LEFT_RIGHT/TOP_BOTTOM *
BAND_ORGANIZATION "SINGLE FILE" *
BAND_CONTENT BLACK&WHITE *
BITS_PER_PIXEL 8 *
SAMPLES_AND_LINES 6025 7588 *
HORIZONTAL_DATUM NAD83 *
HORIZONTAL_COORDINATE_SYSTEM UTM *
COORDINATE_ZONE 10 *
HORIZONTAL_UNITS METERS *
HORIZONTAL_RESOLUTION 1.0 *
SECONDARY_HORIZONTAL_DATUM NAD27 *
XY_ORIGIN 547135.699 4504555.327 *
SECONDARY_XY_ORIGIN 547231.731 4504358.826 *
NATION US *
STATE CA *
NW_QUAD_CORNER_XY 547529.955 4504219.647 *
NE_QUAD_CORNER_XY 552811.092 4504255.327 *
SE_QUAD_CORNER_XY 552860.400 4497317.586 *
SW_QUAD_CORNER_XY 547574.332 4497281.917 *
SECONDARY_NW_QUAD_XY 547531.228 4504008.311 *
SECONDARY_NE_QUAD_XY 552812.506 4504043.992 *
SECONDARY_SE_QUAD_XY 552861.813 4497106.365 *
SECONDARY_SW_QUAD_XY 547575.605 4497070.696 *
RMSE_XY 0.78 *
IMAGE_SOURCE "BLACK AND WHITE FILM" *
SOURCE_IMAGE_ID "NAPP 10476 38" *
SOURCE_IMAGE_DATE 1998 8 11 *
SOURCE_IMAGE_ID "NAPP 10476 37" *
SOURCE_IMAGE_DATE 1998 8 11 *
SOURCE_IMAGE_ID "NAPP 10476 39" *
SOURCE_IMAGE_DATE 1998 8 11 *
SOURCE_IMAGE_ID "NAPP 10476 62" *
SOURCE_IMAGE_DATE 1998 8 11 *
SOURCE_IMAGE_ID "NAPP 10476 61" *
SOURCE_IMAGE_DATE 1998 8 11 *
SOURCE_IMAGE_ID "NAPP 10476 60" *
SOURCE_IMAGE_DATE 1998 8 11 *
SOURCE_IMAGE_ID "NAPP 10475 198" *
SOURCE_IMAGE_DATE 1998 8 11 *
SOURCE_IMAGE_ID "NAPP 10475 197" *
SOURCE_IMAGE_DATE 1998 8 11 *
SOURCE_IMAGE_ID "NAPP 10475 196" *
SOURCE_IMAGE_DATE 1998 8 11 *
SOURCE_DEM_DATE 1996 0 0 *
AGENCY "WESTERN MAPPING CENTER (WMC)" *
PRODUCER "USDA FS GEOSPATIAL SERVICE AND TECHNOLOGY CENTER" *
PRODUCTION_SYSTEM "ORBIT OR_RECTIFY V.5.2" *
STANDARD_VERSION 1996 12 *
METADATA_DATE 2001 5 16 *
DATA_FILE_SIZE 45723725 *
BYTE_COUNT 6025 * * * * * * * * * * * * * * * * *
END_USGS_HEADER *
