BEGIN_USGS_DOQ_HEADER *
QUADRANGLE_NAME "SHASTA DAM" 3.45 or 7.5-min. name*
QUADRANT SW quadrant indicator if cell size = 3.75-minutes*
WEST_LONGITUDE -122 30 0.000 signed deg min sec SDDD MM SS.SSS*
EAST_LONGITUDE -122 26 15.000 signed deg min sec SDDD MM SS.SSS*
NORTH_LATITUDE 40 41 15.000 signed deg min sec SDDD MM SS.SSS*
SOUTH_LATITUDE 40 37 30.000 signed deg min sec SDDD MM SS.SSS*
PRODUCTION_DATE 1996 12 17 yyyy mm dd*
RASTER_ORDER LEFT_RIGHT/TOP_BOTTOM video display order*
BAND_ORGANIZATION "SINGLE FILE" single file or BSQ, or BIL or BIP*
BAND_CONTENT BLACK&WHITE black&white or red green blue*
BITS_PER_PIXEL 8 radiometric resolution*
SAMPLES_AND_LINES 6024 7587 number of columns and rows*
HORIZONTAL_DATUM NAD83 primary horizontal datum*
HORIZONTAL_COORDINATE_SYSTEM UTM *
COORDINATE_ZONE 10 coordinate system zone number*
HORIZONTAL_UNITS METERS coordinate system units*
HORIZONTAL_RESOLUTION 1.00 pixel horiz. ground sample distance*
SECONDARY_HORIZONTAL_DATUM NAD27 secondary horizontal datum*
XY_ORIGIN 541852.000 4504520.000 coord. of upper left pixel pri. datum*
SECONDARY_XY_ORIGIN 541948.107 4504323.482 coord upper left pixel sec datum*
NATION US nation code*
STATE CA state fip code*
NW_QUAD_CORNER_XY 542248.827 4504187.723 XY coords. of pri. NW quad corner*
NE_QUAD_CORNER_XY 547529.955 4504219.647 XY coords. of pri. NE quad corner*
SE_QUAD_CORNER_XY 547574.332 4497281.917 XY coords. of pri. SE quad corner*
SW_QUAD_CORNER_XY 542288.273 4497250.004 XY coords. of pri. SW quad corner*
SECONDARY_NW_QUAD_XY 542249.956 4503976.385 XY coords. - sec. NW quad cor.*
SECONDARY_NE_QUAD_XY 547531.225 4504008.310 XY coords. - sec. NE quad cor.*
SECONDARY_SE_QUAD_XY 547575.601 4497070.694 XY coords. - sec. SE quad cor.*
SECONDARY_SW_QUAD_XY 542289.401 4497038.780 XY coords. - sec. SW quad cor.*
RMSE_XY 3.00 doq horiz. accuracy*
IMAGE_SOURCE "BLACK AND WHITE FILM" b&w, cir, natural color, other*
SOURCE_IMAGE_ID "NAPP 6262 054" source image id*
SOURCE_IMAGE_DATE 1994 8 15 source image date as yyyy mm dd*
SOURCE_DEM_DATE 1996 12 17 source dem date yyyy mm dd*
AGENCY "WESTERN MAPPING CENTER (WMC)" oversight agency*
PRODUCER "Science Applications International" producer/contractor*
PRODUCTION_SYSTEM "GIS/MAGIC" production system*
STANDARD_VERSION 1996 12 version of DOQ standard*
METADATA_DATE 1997 10 18 date created or changed, yyyy mm dd*
DATA_FILE_SIZE 45710112 data set size in bytes*
BYTE_COUNT 6024 header byte count* * * * * * * * * * * * * * * * * * * * * * * * * * * * * * * * *
END_USGS_HEADER *
