BEGIN_USGS_DOQ_HEADER *
QUADRANGLE_NAME "WHISKEYTOWN" *
QUADRANT NE *
WEST_LONGITUDE -122 33 45.000 *
EAST_LONGITUDE -122 30 0.000 *
NORTH_LATITUDE 40 45 0.000 *
SOUTH_LATITUDE 40 41 15.000 *
PRODUCTION_DATE 2001 5 8 *
RASTER_ORDER LEFT_RIGHT/TOP_BOTTOM *
BAND_ORGANIZATION "SINGLE FILE" *
BAND_CONTENT BLACK&WHITE *
BITS_PER_PIXEL 8 *
SAMPLES_AND_LINES 6011 7581 *
HORIZONTAL_DATUM NAD83 *
HORIZONTAL_COORDINATE_SYSTEM UTM *
COORDINATE_ZONE 10 *
HORIZONTAL_UNITS METERS *
HORIZONTAL_RESOLUTION 1.0 *
SECONDARY_HORIZONTAL_DATUM NAD27 *
XY_ORIGIN 536538.547 4511425.016 *
SECONDARY_XY_ORIGIN 536634.639 4511228.451 *
NATION US *
STATE CA *
NW_QUAD_CORNER_XY 536933.148 4511097.339 *
NE_QUAD_CORNER_XY 542209.331 4511125.516 *
SE_QUAD_CORNER_XY 542248.827 4504187.723 *
SW_QUAD_CORNER_XY 536967.707 4504159.555 *
SECONDARY_NW_QUAD_XY 536934.139 4510885.888 *
SECONDARY_NE_QUAD_XY 542210.463 4510914.066 *
SECONDARY_SE_QUAD_XY 542249.959 4503976.386 *
SECONDARY_SW_QUAD_XY 536968.697 4503948.217 *
RMSE_XY 0.78 *
IMAGE_SOURCE "BLACK AND WHITE FILM" *
SOURCE_IMAGE_ID "NAPP 10482 102" *
SOURCE_IMAGE_DATE 1998 8 14 *
SOURCE_IMAGE_ID "NAPP 10482 103" *
SOURCE_IMAGE_DATE 1998 8 14 *
SOURCE_IMAGE_ID "NAPP 10482 101" *
SOURCE_IMAGE_DATE 1998 8 14 *
SOURCE_IMAGE_ID "NAPP 10476 137" *
SOURCE_IMAGE_DATE 1998 8 11 *
SOURCE_IMAGE_ID "NAPP 10476 138" *
SOURCE_IMAGE_DATE 1998 8 11 *
SOURCE_IMAGE_ID "NAPP 10486 115" *
SOURCE_IMAGE_DATE 1998 8 24 *
SOURCE_IMAGE_ID "NAPP 10476 60" *
SOURCE_IMAGE_DATE 1998 8 11 *
SOURCE_IMAGE_ID "NAPP 10476 59" *
SOURCE_IMAGE_DATE 1998 8 11 *
SOURCE_IMAGE_ID "NAPP 10476 58" *
SOURCE_IMAGE_DATE 1998 8 11 *
SOURCE_DEM_DATE 2000 0 0 *
AGENCY "WESTERN MAPPING CENTER (WMC)" *
PRODUCER "USDA FS GEOSPATIAL SERVICE AND TECHNOLOGY CENTER" *
PRODUCTION_SYSTEM "ORBIT OR_RECTIFY V.5.2" *
STANDARD_VERSION 1996 12 *
METADATA_DATE 2001 5 16 *
DATA_FILE_SIZE 45575402 *
BYTE_COUNT 6011 * * * * * * * * * * * * * * * * *
END_USGS_HEADER *
