BEGIN_USGS_DOQ_HEADER *
QUADRANGLE_NAME "WHISKEYTOWN" *
QUADRANT NW *
WEST_LONGITUDE -122 37 30.000 *
EAST_LONGITUDE -122 33 45.000 *
NORTH_LATITUDE 40 45 0.000 *
SOUTH_LATITUDE 40 41 15.000 *
PRODUCTION_DATE 2001 5 8 *
RASTER_ORDER LEFT_RIGHT/TOP_BOTTOM *
BAND_ORGANIZATION "SINGLE FILE" *
BAND_CONTENT BLACK&WHITE *
BITS_PER_PIXEL 8 *
SAMPLES_AND_LINES 6006 7577 *
HORIZONTAL_DATUM NAD83 *
HORIZONTAL_COORDINATE_SYSTEM UTM *
COORDINATE_ZONE 10 *
HORIZONTAL_UNITS METERS *
HORIZONTAL_RESOLUTION 1.0 *
SECONDARY_HORIZONTAL_DATUM NAD27 *
XY_ORIGIN 531261.704 4511396.839 *
SECONDARY_XY_ORIGIN 531357.821 4511200.284 *
NATION US *
STATE CA *
NW_QUAD_CORNER_XY 531656.972 4511072.918 *
NE_QUAD_CORNER_XY 536933.148 4511097.339 *
SE_QUAD_CORNER_XY 536967.707 4504159.555 *
SW_QUAD_CORNER_XY 531686.594 4504135.142 *
SECONDARY_NW_QUAD_XY 531657.821 4510861.467 *
SECONDARY_NE_QUAD_XY 536934.139 4510885.888 *
SECONDARY_SE_QUAD_XY 536968.697 4503948.217 *
SECONDARY_SW_QUAD_XY 531687.443 4503923.804 *
RMSE_XY 0.78 *
IMAGE_SOURCE "BLACK AND WHITE FILM" *
SOURCE_IMAGE_ID "NAPP 10476 138" *
SOURCE_IMAGE_DATE 1998 8 11 *
SOURCE_IMAGE_ID "NAPP 10476 137" *
SOURCE_IMAGE_DATE 1998 8 11 *
SOURCE_IMAGE_ID "NAPP 10486 115" *
SOURCE_IMAGE_DATE 1998 8 24 *
SOURCE_IMAGE_ID "NAPP 10485 104" *
SOURCE_IMAGE_DATE 1998 8 24 *
SOURCE_IMAGE_ID "NAPP 10482 103" *
SOURCE_IMAGE_DATE 1998 8 14 *
SOURCE_IMAGE_ID "NAPP 10482 102" *
SOURCE_IMAGE_DATE 1998 8 14 *
SOURCE_IMAGE_ID "NAPP 10482 101" *
SOURCE_IMAGE_DATE 1998 8 14 *
SOURCE_DEM_DATE 2000 0 0 *
AGENCY "WESTERN MAPPING CENTER (WMC)" *
PRODUCER "USDA FS GEOSPATIAL SERVICE AND TECHNOLOGY CENTER" *
PRODUCTION_SYSTEM "ORBIT OR_RECTIFY V.5.2" *
STANDARD_VERSION 1996 12 *
METADATA_DATE 2001 5 16 *
DATA_FILE_SIZE 45513468 *
BYTE_COUNT 6006 * * * * * * * * * * * * * * * * * * * * *
END_USGS_HEADER *
