BEGIN_USGS_DOQ_HEADER *
QUADRANGLE_NAME "WHISKEYTOWN" *
QUADRANT SE *
WEST_LONGITUDE -122 33 45.000 *
EAST_LONGITUDE -122 30 0.000 *
NORTH_LATITUDE 40 41 15.000 *
SOUTH_LATITUDE 40 37 30.000 *
PRODUCTION_DATE 2001 5 8 *
RASTER_ORDER LEFT_RIGHT/TOP_BOTTOM *
BAND_ORGANIZATION "SINGLE FILE" *
BAND_CONTENT BLACK&WHITE *
BITS_PER_PIXEL 8 *
SAMPLES_AND_LINES 6016 7581 *
HORIZONTAL_DATUM NAD83 *
HORIZONTAL_COORDINATE_SYSTEM UTM *
COORDINATE_ZONE 10 *
HORIZONTAL_UNITS METERS *
HORIZONTAL_RESOLUTION 1.0 *
SECONDARY_HORIZONTAL_DATUM NAD27 *
XY_ORIGIN 536572.570 4504487.223 *
SECONDARY_XY_ORIGIN 536668.697 4504290.709 *
NATION US *
STATE CA *
NW_QUAD_CORNER_XY 536967.707 4504159.555 *
NE_QUAD_CORNER_XY 542248.827 4504187.723 *
SE_QUAD_CORNER_XY 542288.273 4497250.004 *
SW_QUAD_CORNER_XY 537002.222 4497221.845 *
SECONDARY_NW_QUAD_XY 536968.697 4503948.217 *
SECONDARY_NE_QUAD_XY 542249.959 4503976.386 *
SECONDARY_SE_QUAD_XY 542289.404 4497038.782 *
SECONDARY_SW_QUAD_XY 537003.212 4497010.622 *
RMSE_XY 0.78 *
IMAGE_SOURCE "BLACK AND WHITE FILM" *
SOURCE_IMAGE_ID "NAPP 10482 104" *
SOURCE_IMAGE_DATE 1998 8 14 *
SOURCE_IMAGE_ID "NAPP 10482 105" *
SOURCE_IMAGE_DATE 1998 8 14 *
SOURCE_IMAGE_ID "NAPP 10482 103" *
SOURCE_IMAGE_DATE 1998 8 14 *
SOURCE_IMAGE_ID "NAPP 10476 135" *
SOURCE_IMAGE_DATE 1998 8 11 *
SOURCE_IMAGE_ID "NAPP 10476 136" *
SOURCE_IMAGE_DATE 1998 8 11 *
SOURCE_IMAGE_ID "NAPP 10476 137" *
SOURCE_IMAGE_DATE 1998 8 11 *
SOURCE_IMAGE_ID "NAPP 10476 62" *
SOURCE_IMAGE_DATE 1998 8 11 *
SOURCE_IMAGE_ID "NAPP 10476 61" *
SOURCE_IMAGE_DATE 1998 8 11 *
SOURCE_IMAGE_ID "NAPP 10476 60" *
SOURCE_IMAGE_DATE 1998 8 11 *
SOURCE_DEM_DATE 2000 0 0 *
AGENCY "WESTERN MAPPING CENTER (WMC)" *
PRODUCER "USDA FS GEOSPATIAL SERVICE AND TECHNOLOGY CENTER" *
PRODUCTION_SYSTEM "ORBIT OR_RECTIFY V.5.2" *
STANDARD_VERSION 1996 12 *
METADATA_DATE 2001 5 16 *
DATA_FILE_SIZE 45613312 *
BYTE_COUNT 6016 * * * * * * * * * * * * * * * * *
END_USGS_HEADER *
