BEGIN_USGS_DOQ_HEADER *
QUADRANGLE_NAME "WHISKEYTOWN" *
QUADRANT SW *
WEST_LONGITUDE -122 37 30.000 *
EAST_LONGITUDE -122 33 45.000 *
NORTH_LATITUDE 40 41 15.000 *
SOUTH_LATITUDE 40 37 30.000 *
PRODUCTION_DATE 2001 5 8 *
RASTER_ORDER LEFT_RIGHT/TOP_BOTTOM *
BAND_ORGANIZATION "SINGLE FILE" *
BAND_CONTENT BLACK&WHITE *
BITS_PER_PIXEL 8 *
SAMPLES_AND_LINES 6011 7577 *
HORIZONTAL_DATUM NAD83 *
HORIZONTAL_COORDINATE_SYSTEM UTM *
COORDINATE_ZONE 10 *
HORIZONTAL_UNITS METERS *
HORIZONTAL_RESOLUTION 1.0 *
SECONDARY_HORIZONTAL_DATUM NAD27 *
XY_ORIGIN 531291.796 4504459.055 *
SECONDARY_XY_ORIGIN 531387.942 4504262.542 *
NATION US *
STATE CA *
NW_QUAD_CORNER_XY 531686.594 4504135.142 *
NE_QUAD_CORNER_XY 536967.707 4504159.555 *
SE_QUAD_CORNER_XY 537002.222 4497221.845 *
SW_QUAD_CORNER_XY 531716.178 4497197.441 *
SECONDARY_NW_QUAD_XY 531687.443 4503923.804 *
SECONDARY_NE_QUAD_XY 536968.697 4503948.217 *
SECONDARY_SE_QUAD_XY 537003.212 4497010.622 *
SECONDARY_SW_QUAD_XY 531717.026 4496986.218 *
RMSE_XY 0.78 *
IMAGE_SOURCE "BLACK AND WHITE FILM" *
SOURCE_IMAGE_ID "NAPP 10476 136" *
SOURCE_IMAGE_DATE 1998 8 11 *
SOURCE_IMAGE_ID "NAPP 10476 135" *
SOURCE_IMAGE_DATE 1998 8 11 *
SOURCE_IMAGE_ID "NAPP 10476 137" *
SOURCE_IMAGE_DATE 1998 8 11 *
SOURCE_IMAGE_ID "NAPP 10482 105" *
SOURCE_IMAGE_DATE 1998 8 14 *
SOURCE_IMAGE_ID "NAPP 10482 104" *
SOURCE_IMAGE_DATE 1998 8 14 *
SOURCE_IMAGE_ID "NAPP 10482 103" *
SOURCE_IMAGE_DATE 1998 8 14 *
SOURCE_DEM_DATE 2000 0 0 *
AGENCY "WESTERN MAPPING CENTER (WMC)" *
PRODUCER "USDA FS GEOSPATIAL SERVICE AND TECHNOLOGY CENTER" *
PRODUCTION_SYSTEM "ORBIT OR_RECTIFY V.5.2" *
STANDARD_VERSION 1996 12 *
METADATA_DATE 2001 5 16 *
DATA_FILE_SIZE 45551358 *
BYTE_COUNT 6011 * * * * * * * * * * * * * * * * * * * * * * *
END_USGS_HEADER *
