BEGIN_USGS_DOQ_HEADER *
QUADRANGLE_NAME "LEWISTON" 3.45 or 7.5-min. name*
QUADRANT SE quadrant indicator if cell size = 3.75-minutes*
WEST_LONGITUDE -122 48 45.000 signed deg min sec SDDD MM SS.SSS*
EAST_LONGITUDE -122 45 0.000 signed deg min sec SDDD MM SS.SSS*
NORTH_LATITUDE 40 41 15.000 signed deg min sec SDDD MM SS.SSS*
SOUTH_LATITUDE 40 37 30.000 signed deg min sec SDDD MM SS.SSS*
PRODUCTION_DATE 1996 4 1 yyyy mm dd*
RASTER_ORDER LEFT_RIGHT/TOP_BOTTOM video display order*
BAND_ORGANIZATION "SINGLE FILE" single file or BSQ, or BIL or BIP*
BAND_CONTENT BLACK&WHITE black&white or red green blue*
BITS_PER_PIXEL 8 radiometric resolution*
SAMPLES_AND_LINES 6006 7576 number of columns and rows*
HORIZONTAL_DATUM NAD83 primary horizontal datum*
HORIZONTAL_COORDINATE_SYSTEM UTM *
COORDINATE_ZONE 10 coordinate system zone number*
HORIZONTAL_UNITS METERS coordinate system units*
HORIZONTAL_RESOLUTION 1.00 pixel horiz. ground sample distance*
SECONDARY_HORIZONTAL_DATUM NAD27 secondary horizontal datum*
XY_ORIGIN 515443.500 4504402.500 coord. of upper left pixel pri. datum*
SECONDARY_XY_ORIGIN 515539.681 4504205.980 coord upper left pixel sec datum*
NATION US nation code*
STATE CA state fip code*
NW_QUAD_CORNER_XY 515843.284 4504084.441 XY coords. of pri. NW quad corner*
NE_QUAD_CORNER_XY 521124.383 4504097.586 XY coords. of pri. NE quad corner*
SE_QUAD_CORNER_XY 521144.106 4497159.897 XY coords. of pri. SE quad corner*
SW_QUAD_CORNER_XY 515858.076 4497146.757 XY coords. of pri. SW quad corner*
SECONDARY_NW_QUAD_XY 515843.707 4503873.100 XY coords. - sec. NW quad cor.*
SECONDARY_NE_QUAD_XY 521124.947 4503886.245 XY coords. - sec. NE quad cor.*
SECONDARY_SE_QUAD_XY 521144.670 4496948.671 XY coords. - sec. SE quad cor.*
SECONDARY_SW_QUAD_XY 515858.499 4496935.530 XY coords. - sec. SW quad cor.*
RMSE_XY 2.60 doq horiz. accuracy*
IMAGE_SOURCE "BLACK AND WHITE FILM" b&w, cir, natural color, other*
SOURCE_IMAGE_ID "PAPP 5255 080" source image id*
SOURCE_IMAGE_DATE 1993 8 26 source image date as yyyy mm dd*
IMAGE_SOURCE "BLACK AND WHITE FILM" b&w, cir, natural color, other*
SOURCE_IMAGE_ID "PAPP 5255 979" source image id*
SOURCE_IMAGE_DATE 1993 8 26 source image date as yyyy mm dd*
IMAGE_SOURCE "BLACK AND WHITE FILM" b&w, cir, natural color, other*
SOURCE_IMAGE_ID "PAPP 5255 181" source image id*
SOURCE_IMAGE_DATE 1993 8 26 source image date as yyyy mm dd*
SOURCE_DEM_DATE 1996 4 1 source dem date yyyy mm dd*
AGENCY "WESTERN MAPPING CENTER (WMC)" oversight agency*
PRODUCER "Woolpert Consultants" producer/contractor*
PRODUCTION_SYSTEM "INTERGRAPH ISPM,ISIR" production system*
STANDARD_VERSION 1996 12 version of DOQ standard*
METADATA_DATE 1997 5 27 date created or changed, yyyy mm dd*
DATA_FILE_SIZE 45507462 data set size in bytes*
BYTE_COUNT 6006 header byte count* * * * * * * * * * * * * * * * * * * * * * * * * * *
END_USGS_HEADER *
