BEGIN_USGS_DOQ_HEADER *
QUADRANGLE_NAME "LEWISTON" *
QUADRANT SE *
WEST_LONGITUDE -122 48 45.000 *
EAST_LONGITUDE -122 45 0.000 *
NORTH_LATITUDE 40 41 15.000 *
SOUTH_LATITUDE 40 37 30.000 *
PRODUCTION_DATE 2001 7 23 *
RASTER_ORDER LEFT_RIGHT/TOP_BOTTOM *
BAND_ORGANIZATION "SINGLE FILE" *
BAND_CONTENT BLACK&WHITE *
BITS_PER_PIXEL 8 *
SAMPLES_AND_LINES 5997 7566 *
HORIZONTAL_DATUM NAD83 *
HORIZONTAL_COORDINATE_SYSTEM UTM *
COORDINATE_ZONE 10 *
HORIZONTAL_UNITS METERS *
HORIZONTAL_RESOLUTION 1.0 *
SECONDARY_HORIZONTAL_DATUM NAD27 *
XY_ORIGIN 515448.025 4504397.586 *
SECONDARY_XY_ORIGIN 515544.208 4504201.067 *
NATION US *
STATE CA *
NW_QUAD_CORNER_XY 515843.284 4504084.441 *
NE_QUAD_CORNER_XY 521124.383 4504097.586 *
SE_QUAD_CORNER_XY 521144.106 4497159.897 *
SW_QUAD_CORNER_XY 515858.076 4497146.757 *
SECONDARY_NW_QUAD_XY 515843.709 4503873.101 *
SECONDARY_NE_QUAD_XY 521124.950 4503886.246 *
SECONDARY_SE_QUAD_XY 521144.672 4496948.672 *
SECONDARY_SW_QUAD_XY 515858.501 4496935.532 *
RMSE_XY 0.98 *
IMAGE_SOURCE "BLACK AND WHITE FILM" *
SOURCE_IMAGE_ID "NAPP 10486 142" *
SOURCE_IMAGE_DATE 1998 8 24 *
SOURCE_IMAGE_ID "NAPP 10486 143" *
SOURCE_IMAGE_DATE 1998 8 24 *
SOURCE_IMAGE_ID "NAPP 10486 141" *
SOURCE_IMAGE_DATE 1998 8 24 *
SOURCE_IMAGE_ID "NAPP 10482 127" *
SOURCE_IMAGE_DATE 1998 8 14 *
SOURCE_IMAGE_ID "NAPP 10482 126" *
SOURCE_IMAGE_DATE 1998 8 14 *
SOURCE_IMAGE_ID "NAPP 10482 125" *
SOURCE_IMAGE_DATE 1998 8 14 *
SOURCE_DEM_DATE 2000 0 0 *
AGENCY "WESTERN MAPPING CENTER (WMC)" *
PRODUCER "USDA FS GEOSPATIAL SERVICE AND TECHNOLOGY CENTER" *
PRODUCTION_SYSTEM "ORBIT OR_RECTIFY V.5.2" *
STANDARD_VERSION 1996 12 *
METADATA_DATE 2001 7 25 *
DATA_FILE_SIZE 45379299 *
BYTE_COUNT 5997 * * * * * * * * * * * * * * * * * * * * * *
END_USGS_HEADER *
