BEGIN_USGS_DOQ_HEADER *
QUADRANGLE_NAME "DEVILS ROCK" *
QUADRANT NE *
WEST_LONGITUDE -122 3 45.000 *
EAST_LONGITUDE -122 0 0.000 *
NORTH_LATITUDE 40 52 30.000 *
SOUTH_LATITUDE 40 48 45.000 *
PRODUCTION_DATE 2001 4 26 *
RASTER_ORDER LEFT_RIGHT/TOP_BOTTOM *
BAND_ORGANIZATION "SINGLE FILE" *
BAND_CONTENT BLACK&WHITE *
BITS_PER_PIXEL 8 *
SAMPLES_AND_LINES 6039 7611 *
HORIZONTAL_DATUM NAD83 *
HORIZONTAL_COORDINATE_SYSTEM UTM *
COORDINATE_ZONE 10 *
HORIZONTAL_UNITS METERS *
HORIZONTAL_RESOLUTION 1.0 *
SECONDARY_HORIZONTAL_DATUM NAD27 *
XY_ORIGIN 578601.457 4525661.751 *
SECONDARY_XY_ORIGIN 578697.087 4525464.771 *
NATION US *
STATE CA *
NW_QUAD_CORNER_XY 578994.467 4525303.975 *
NE_QUAD_CORNER_XY 584260.841 4525362.251 *
SE_QUAD_CORNER_XY 584340.043 4518424.192 *
SW_QUAD_CORNER_XY 579068.718 4518365.934 *
SECONDARY_NW_QUAD_XY 578996.590 4525092.310 *
SECONDARY_NE_QUAD_XY 584263.104 4525150.588 *
SECONDARY_SE_QUAD_XY 584342.305 4518212.640 *
SECONDARY_SW_QUAD_XY 579070.839 4518154.381 *
RMSE_XY 2.36 *
IMAGE_SOURCE "BLACK AND WHITE FILM" *
SOURCE_IMAGE_ID "NAPP 10491 41" *
SOURCE_IMAGE_DATE 1998 9 10 *
SOURCE_IMAGE_ID "NAPP 10491 42" *
SOURCE_IMAGE_DATE 1998 9 10 *
SOURCE_IMAGE_ID "NAPP 10491 40" *
SOURCE_IMAGE_DATE 1998 9 10 *
SOURCE_IMAGE_ID "NAPP 10491 37" *
SOURCE_IMAGE_DATE 1998 9 10 *
SOURCE_IMAGE_ID "NAPP 10491 38" *
SOURCE_IMAGE_DATE 1998 9 10 *
SOURCE_IMAGE_ID "NAPP 10491 39" *
SOURCE_IMAGE_DATE 1998 9 10 *
SOURCE_IMAGE_ID "NAPP 10502 156" *
SOURCE_IMAGE_DATE 1998 8 17 *
SOURCE_IMAGE_ID "NAPP 10502 157" *
SOURCE_IMAGE_DATE 1998 8 17 *
SOURCE_IMAGE_ID "NAPP 10502 158" *
SOURCE_IMAGE_DATE 1998 8 17 *
SOURCE_DEM_DATE 2000 0 0 *
AGENCY "WESTERN MAPPING CENTER (WMC)" *
PRODUCER "USDA FS GEOSPATIAL SERVICE AND TECHNOLOGY CENTER" *
PRODUCTION_SYSTEM "ORBIT OR_RECTIFY V.5.2" *
STANDARD_VERSION 1996 12 *
METADATA_DATE 2001 5 16 *
DATA_FILE_SIZE 45968868 *
BYTE_COUNT 6039 * * * * * * * * * * * * * * * * *
END_USGS_HEADER *
