BEGIN_USGS_DOQ_HEADER *
QUADRANGLE_NAME "DEVILS ROCK" *
QUADRANT SW *
WEST_LONGITUDE -122 7 30.000 *
EAST_LONGITUDE -122 3 45.000 *
NORTH_LATITUDE 40 48 45.000 *
SOUTH_LATITUDE 40 45 0.000 *
PRODUCTION_DATE 2001 4 26 *
RASTER_ORDER LEFT_RIGHT/TOP_BOTTOM *
BAND_ORGANIZATION "SINGLE FILE" *
BAND_CONTENT BLACK&WHITE *
BITS_PER_PIXEL 8 *
SAMPLES_AND_LINES 6039 7607 *
HORIZONTAL_DATUM NAD83 *
HORIZONTAL_COORDINATE_SYSTEM UTM *
COORDINATE_ZONE 10 *
HORIZONTAL_UNITS METERS *
HORIZONTAL_RESOLUTION 1.0 *
SECONDARY_HORIZONTAL_DATUM NAD27 *
XY_ORIGIN 573404.192 4518665.434 *
SECONDARY_XY_ORIGIN 573499.884 4518468.665 *
NATION US *
STATE CA *
NW_QUAD_CORNER_XY 573797.408 4518311.436 *
NE_QUAD_CORNER_XY 579068.718 4518365.934 *
SE_QUAD_CORNER_XY 579142.874 4511427.967 *
SW_QUAD_CORNER_XY 573866.619 4511373.487 *
SECONDARY_NW_QUAD_XY 573799.387 4518099.881 *
SECONDARY_NE_QUAD_XY 579070.839 4518154.381 *
SECONDARY_SE_QUAD_XY 579144.994 4511216.526 *
SECONDARY_SW_QUAD_XY 573868.597 4511162.044 *
RMSE_XY 2.36 *
IMAGE_SOURCE "BLACK AND WHITE FILM" *
SOURCE_IMAGE_ID "NAPP 10491 36" *
SOURCE_IMAGE_DATE 1998 9 10 *
SOURCE_IMAGE_ID "NAPP 10491 35" *
SOURCE_IMAGE_DATE 1998 9 10 *
SOURCE_IMAGE_ID "NAPP 10491 37" *
SOURCE_IMAGE_DATE 1998 9 10 *
SOURCE_IMAGE_ID "NAPP 10475 25" *
SOURCE_IMAGE_DATE 1998 8 11 *
SOURCE_IMAGE_ID "NAPP 10475 24" *
SOURCE_IMAGE_DATE 1998 8 11 *
SOURCE_IMAGE_ID "NAPP 10475 23" *
SOURCE_IMAGE_DATE 1998 8 11 *
SOURCE_IMAGE_ID "NAPP 10491 44" *
SOURCE_IMAGE_DATE 1998 9 10 *
SOURCE_IMAGE_ID "NAPP 10491 43" *
SOURCE_IMAGE_DATE 1998 9 10 *
SOURCE_IMAGE_ID "NAPP 10491 42" *
SOURCE_IMAGE_DATE 1998 9 10 *
SOURCE_DEM_DATE 2000 0 0 *
AGENCY "WESTERN MAPPING CENTER (WMC)" *
PRODUCER "USDA FS GEOSPATIAL SERVICE AND TECHNOLOGY CENTER" *
PRODUCTION_SYSTEM "ORBIT OR_RECTIFY V.5.2" *
STANDARD_VERSION 1996 12 *
METADATA_DATE 2001 5 16 *
DATA_FILE_SIZE 45944712 *
BYTE_COUNT 6039 * * * * * * * * * * * * * * * * *
END_USGS_HEADER *
