BEGIN_USGS_DOQ_HEADER *
QUADRANGLE_NAME "MINNESOTA MOUNTAIN" *
QUADRANT NE *
WEST_LONGITUDE -122 11 15.000 *
EAST_LONGITUDE -122 7 30.000 *
NORTH_LATITUDE 40 52 30.000 *
SOUTH_LATITUDE 40 48 45.000 *
PRODUCTION_DATE 2001 4 26 *
RASTER_ORDER LEFT_RIGHT/TOP_BOTTOM *
BAND_ORGANIZATION "SINGLE FILE" *
BAND_CONTENT BLACK&WHITE *
BITS_PER_PIXEL 8 *
SAMPLES_AND_LINES 6029 7604 *
HORIZONTAL_DATUM NAD83 *
HORIZONTAL_COORDINATE_SYSTEM UTM *
COORDINATE_ZONE 10 *
HORIZONTAL_UNITS METERS *
HORIZONTAL_RESOLUTION 1.0 *
SECONDARY_HORIZONTAL_DATUM NAD27 *
XY_ORIGIN 568068.450 4525549.459 *
SECONDARY_XY_ORIGIN 568164.099 4525352.579 *
NATION US *
STATE CA *
NW_QUAD_CORNER_XY 568461.761 4525198.703 *
NE_QUAD_CORNER_XY 573728.108 4525249.459 *
SE_QUAD_CORNER_XY 573797.408 4518311.436 *
SW_QUAD_CORNER_XY 568526.110 4518260.697 *
SECONDARY_NW_QUAD_XY 568463.600 4524987.035 *
SECONDARY_NE_QUAD_XY 573730.089 4525037.792 *
SECONDARY_SE_QUAD_XY 573799.387 4518099.881 *
SECONDARY_SW_QUAD_XY 568527.948 4518049.140 *
RMSE_XY 2.36 *
IMAGE_SOURCE "BLACK AND WHITE FILM" *
SOURCE_IMAGE_ID "NAPP 10475 22" *
SOURCE_IMAGE_DATE 1998 8 11 *
SOURCE_IMAGE_ID "NAPP 10475 23" *
SOURCE_IMAGE_DATE 1998 8 11 *
SOURCE_IMAGE_ID "NAPP 10482 1" *
SOURCE_IMAGE_DATE 1998 8 14 *
SOURCE_IMAGE_ID "NAPP 10481 260" *
SOURCE_IMAGE_DATE 1998 8 14 *
SOURCE_IMAGE_ID "NAPP 10481 259" *
SOURCE_IMAGE_DATE 1998 8 14 *
SOURCE_IMAGE_ID "NAPP 10481 258" *
SOURCE_IMAGE_DATE 1998 8 14 *
SOURCE_IMAGE_ID "NAPP 10491 37" *
SOURCE_IMAGE_DATE 1998 9 10 *
SOURCE_IMAGE_ID "NAPP 10491 38" *
SOURCE_IMAGE_DATE 1998 9 10 *
SOURCE_IMAGE_ID "NAPP 10491 39" *
SOURCE_IMAGE_DATE 1998 9 10 *
SOURCE_DEM_DATE 2000 0 0 *
AGENCY "WESTERN MAPPING CENTER (WMC)" *
PRODUCER "USDA FS GEOSPATIAL SERVICE AND TECHNOLOGY CENTER" *
PRODUCTION_SYSTEM "ORBIT OR_RECTIFY V.5.2" *
STANDARD_VERSION 1996 12 *
METADATA_DATE 2001 5 16 *
DATA_FILE_SIZE 45850545 *
BYTE_COUNT 6029 * * * * * * * * * * * * * * * * *
END_USGS_HEADER *
