BEGIN_USGS_DOQ_HEADER *
QUADRANGLE_NAME "MINNESOTA MOUNTAIN" *
QUADRANT NW *
WEST_LONGITUDE -122 15 0.000 *
EAST_LONGITUDE -122 11 15.000 *
NORTH_LATITUDE 40 52 30.000 *
SOUTH_LATITUDE 40 48 45.000 *
PRODUCTION_DATE 2001 4 26 *
RASTER_ORDER LEFT_RIGHT/TOP_BOTTOM *
BAND_ORGANIZATION "SINGLE FILE" *
BAND_CONTENT BLACK&WHITE *
BITS_PER_PIXEL 8 *
SAMPLES_AND_LINES 6025 7600 *
HORIZONTAL_DATUM NAD83 *
HORIZONTAL_COORDINATE_SYSTEM UTM *
COORDINATE_ZONE 10 *
HORIZONTAL_UNITS METERS *
HORIZONTAL_RESOLUTION 1.0 *
SECONDARY_HORIZONTAL_DATUM NAD27 *
XY_ORIGIN 562801.964 4525498.703 *
SECONDARY_XY_ORIGIN 562897.629 4525301.870 *
NATION US *
STATE CA *
NW_QUAD_CORNER_XY 563195.426 4525151.708 *
NE_QUAD_CORNER_XY 568461.761 4525198.703 *
SE_QUAD_CORNER_XY 568526.110 4518260.697 *
SW_QUAD_CORNER_XY 563254.824 4518213.717 *
SECONDARY_NW_QUAD_XY 563197.126 4524940.038 *
SECONDARY_NE_QUAD_XY 568463.600 4524987.035 *
SECONDARY_SE_QUAD_XY 568527.948 4518049.140 *
SECONDARY_SW_QUAD_XY 563256.523 4518002.158 *
RMSE_XY 2.36 *
IMAGE_SOURCE "BLACK AND WHITE FILM" *
SOURCE_IMAGE_ID "NAPP 10481 259" *
SOURCE_IMAGE_DATE 1998 8 14 *
SOURCE_IMAGE_ID "NAPP 10481 260" *
SOURCE_IMAGE_DATE 1998 8 14 *
SOURCE_IMAGE_ID "NAPP 10481 258" *
SOURCE_IMAGE_DATE 1998 8 14 *
SOURCE_IMAGE_ID "NAPP 10494 37" *
SOURCE_IMAGE_DATE 1999 7 29 *
SOURCE_IMAGE_ID "NAPP 10494 38" *
SOURCE_IMAGE_DATE 1999 7 29 *
SOURCE_IMAGE_ID "NAPP 10494 39" *
SOURCE_IMAGE_DATE 1999 7 29 *
SOURCE_IMAGE_ID "NAPP 10475 23" *
SOURCE_IMAGE_DATE 1998 8 11 *
SOURCE_IMAGE_ID "NAPP 10475 22" *
SOURCE_IMAGE_DATE 1998 8 11 *
SOURCE_IMAGE_ID "NAPP 10482 1" *
SOURCE_IMAGE_DATE 1998 8 14 *
SOURCE_DEM_DATE 2000 0 0 *
AGENCY "WESTERN MAPPING CENTER (WMC)" *
PRODUCER "USDA FS GEOSPATIAL SERVICE AND TECHNOLOGY CENTER" *
PRODUCTION_SYSTEM "ORBIT OR_RECTIFY V.5.2" *
STANDARD_VERSION 1996 12 *
METADATA_DATE 2001 5 16 *
DATA_FILE_SIZE 45796025 *
BYTE_COUNT 6025 * * * * * * * * * * * * * * * * *
END_USGS_HEADER *
