BEGIN_USGS_DOQ_HEADER *
QUADRANGLE_NAME "MINNESOTA MOUNTAIN" 3.45 or 7.5-min. name*
QUADRANT SE quadrant indicator if cell size = 3.75-minutes*
WEST_LONGITUDE -122 11 15.000 signed deg min sec SDDD MM SS.SSS*
EAST_LONGITUDE -122 7 30.000 signed deg min sec SDDD MM SS.SSS*
NORTH_LATITUDE 40 48 45.000 signed deg min sec SDDD MM SS.SSS*
SOUTH_LATITUDE 40 45 0.000 signed deg min sec SDDD MM SS.SSS*
PRODUCTION_DATE 1996 12 17 yyyy mm dd*
RASTER_ORDER LEFT_RIGHT/TOP_BOTTOM video display order*
BAND_ORGANIZATION "SINGLE FILE" single file or BSQ, or BIL or BIP*
BAND_CONTENT BLACK&WHITE black&white or red green blue*
BITS_PER_PIXEL 8 radiometric resolution*
SAMPLES_AND_LINES 6037 7607 number of columns and rows*
HORIZONTAL_DATUM NAD83 primary horizontal datum*
HORIZONTAL_COORDINATE_SYSTEM UTM *
COORDINATE_ZONE 10 coordinate system zone number*
HORIZONTAL_UNITS METERS coordinate system units*
HORIZONTAL_RESOLUTION 1.00 pixel horiz. ground sample distance*
SECONDARY_HORIZONTAL_DATUM NAD27 secondary horizontal datum*
XY_ORIGIN 568131.000 4518612.000 coord. of upper left pixel pri. datum*
SECONDARY_XY_ORIGIN 568226.691 4518415.275 coord upper left pixel sec datum*
NATION US nation code*
STATE CA state fip code*
NW_QUAD_CORNER_XY 568526.110 4518260.697 XY coords. of pri. NW quad corner*
NE_QUAD_CORNER_XY 573797.408 4518311.436 XY coords. of pri. NE quad corner*
SE_QUAD_CORNER_XY 573866.619 4511373.486 XY coords. of pri. SE quad corner*
SW_QUAD_CORNER_XY 568590.377 4511322.764 XY coords. of pri. SW quad corner*
SECONDARY_NW_QUAD_XY 568527.946 4518049.138 XY coords. - sec. NW quad cor.*
SECONDARY_NE_QUAD_XY 573799.385 4518099.878 XY coords. - sec. NE quad cor.*
SECONDARY_SE_QUAD_XY 573868.595 4511162.042 XY coords. - sec. SE quad cor.*
SECONDARY_SW_QUAD_XY 568592.212 4511111.318 XY coords. - sec. SW quad cor.*
RMSE_XY 4.20 doq horiz. accuracy*
IMAGE_SOURCE "BLACK AND WHITE FILM" b&w, cir, natural color, other*
SOURCE_IMAGE_ID "NAPP 6244 194" source image id*
SOURCE_IMAGE_DATE 1993 6 11 source image date as yyyy mm dd*
SOURCE_DEM_DATE 1996 12 17 source dem date yyyy mm dd*
AGENCY "WESTERN MAPPING CENTER (WMC)" oversight agency*
PRODUCER "Science Applications International" producer/contractor*
PRODUCTION_SYSTEM "GIS/MAGIC" production system*
STANDARD_VERSION 1996 12 version of DOQ standard*
METADATA_DATE 1997 10 18 date created or changed, yyyy mm dd*
DATA_FILE_SIZE 45929496 data set size in bytes*
BYTE_COUNT 6037 header byte count* * * * * * * * * * * * * * * * * * * * * * * * * * * * * * * * *
END_USGS_HEADER *
