BEGIN_USGS_DOQ_HEADER *
QUADRANGLE_NAME "O'BRIEN" 3.45 or 7.5-min. name*
QUADRANT SW quadrant indicator if cell size = 3.75-minutes*
WEST_LONGITUDE -122 22 30.000 signed deg min sec SDDD MM SS.SSS*
EAST_LONGITUDE -122 18 45.000 signed deg min sec SDDD MM SS.SSS*
NORTH_LATITUDE 40 48 45.000 signed deg min sec SDDD MM SS.SSS*
SOUTH_LATITUDE 40 45 0.000 signed deg min sec SDDD MM SS.SSS*
PRODUCTION_DATE 1996 12 17 yyyy mm dd*
RASTER_ORDER LEFT_RIGHT/TOP_BOTTOM video display order*
BAND_ORGANIZATION "SINGLE FILE" single file or BSQ, or BIL or BIP*
BAND_CONTENT BLACK&WHITE black&white or red green blue*
BITS_PER_PIXEL 8 radiometric resolution*
SAMPLES_AND_LINES 6023 7595 number of columns and rows*
HORIZONTAL_DATUM NAD83 primary horizontal datum*
HORIZONTAL_COORDINATE_SYSTEM UTM *
COORDINATE_ZONE 10 coordinate system zone number*
HORIZONTAL_UNITS METERS coordinate system units*
HORIZONTAL_RESOLUTION 1.00 pixel horiz. ground sample distance*
SECONDARY_HORIZONTAL_DATUM NAD27 secondary horizontal datum*
XY_ORIGIN 552316.000 4518471.000 coord. of upper left pixel pri. datum*
SECONDARY_XY_ORIGIN 552411.867 4518274.315 coord upper left pixel sec datum*
NATION US nation code*
STATE CA state fip code*
NW_QUAD_CORNER_XY 552712.286 4518131.033 XY coords. of pri. NW quad corner*
NE_QUAD_CORNER_XY 557983.550 4518170.495 XY coords. of pri. NE quad corner*
SE_QUAD_CORNER_XY 558037.928 4511232.592 XY coords. of pri. SE quad corner*
SW_QUAD_CORNER_XY 552761.720 4511193.143 XY coords. of pri. SW quad corner*
SECONDARY_NW_QUAD_XY 552713.698 4517919.471 XY coords. - sec. NW quad cor.*
SECONDARY_NE_QUAD_XY 557985.103 4517958.934 XY coords. - sec. NE quad cor.*
SECONDARY_SE_QUAD_XY 558039.481 4511021.144 XY coords. - sec. SE quad cor.*
SECONDARY_SW_QUAD_XY 552763.132 4510981.693 XY coords. - sec. SW quad cor.*
RMSE_XY 4.60 doq horiz. accuracy*
IMAGE_SOURCE "BLACK AND WHITE FILM" b&w, cir, natural color, other*
SOURCE_IMAGE_ID "NAPP 6244 120" source image id*
SOURCE_IMAGE_DATE 1993 6 11 source image date as yyyy mm dd*
SOURCE_DEM_DATE 1996 12 17 source dem date yyyy mm dd*
AGENCY "WESTERN MAPPING CENTER (WMC)" oversight agency*
PRODUCER "Science Applications International" producer/contractor*
PRODUCTION_SYSTEM "GIS/MAGIC" production system*
STANDARD_VERSION 1996 12 version of DOQ standard*
METADATA_DATE 1997 10 18 date created or changed, yyyy mm dd*
DATA_FILE_SIZE 45750708 data set size in bytes*
BYTE_COUNT 6023 header byte count* * * * * * * * * * * * * * * * * * * * * * * * * * * * * * * * *
END_USGS_HEADER *
