BEGIN_USGS_DOQ_HEADER *
QUADRANGLE_NAME "O'BRIEN" *
QUADRANT SW *
WEST_LONGITUDE -122 22 30.000 *
EAST_LONGITUDE -122 18 45.000 *
NORTH_LATITUDE 40 48 45.000 *
SOUTH_LATITUDE 40 45 0.000 *
PRODUCTION_DATE 2001 5 30 *
RASTER_ORDER LEFT_RIGHT/TOP_BOTTOM *
BAND_ORGANIZATION "SINGLE FILE" *
BAND_CONTENT BLACK&WHITE *
BITS_PER_PIXEL 8 *
SAMPLES_AND_LINES 6020 7592 *
HORIZONTAL_DATUM NAD83 *
HORIZONTAL_COORDINATE_SYSTEM UTM *
COORDINATE_ZONE 10 *
HORIZONTAL_UNITS METERS *
HORIZONTAL_RESOLUTION 1.0 *
SECONDARY_HORIZONTAL_DATUM NAD27 *
XY_ORIGIN 552317.834 4518470.496 *
SECONDARY_XY_ORIGIN 552413.705 4518273.817 *
NATION US *
STATE CA *
NW_QUAD_CORNER_XY 552712.286 4518131.033 *
NE_QUAD_CORNER_XY 557983.550 4518170.496 *
SE_QUAD_CORNER_XY 558037.928 4511232.592 *
SW_QUAD_CORNER_XY 552761.720 4511193.143 *
SECONDARY_NW_QUAD_XY 552713.702 4517919.472 *
SECONDARY_NE_QUAD_XY 557985.107 4517958.936 *
SECONDARY_SE_QUAD_XY 558039.485 4511021.145 *
SECONDARY_SW_QUAD_XY 552763.135 4510981.694 *
RMSE_XY 1.23 *
IMAGE_SOURCE "BLACK AND WHITE FILM" *
SOURCE_IMAGE_ID "NAPP 10494 43" *
SOURCE_IMAGE_DATE 1999 7 29 *
SOURCE_IMAGE_ID "NAPP 10494 44" *
SOURCE_IMAGE_DATE 1999 7 29 *
SOURCE_IMAGE_ID "NAPP 10494 42" *
SOURCE_IMAGE_DATE 1999 7 29 *
SOURCE_IMAGE_ID "NAPP 10476 41" *
SOURCE_IMAGE_DATE 1998 8 11 *
SOURCE_IMAGE_ID "NAPP 10476 42" *
SOURCE_IMAGE_DATE 1998 8 11 *
SOURCE_IMAGE_ID "NAPP 10476 43" *
SOURCE_IMAGE_DATE 1998 8 11 *
SOURCE_IMAGE_ID "NAPP 10494 35" *
SOURCE_IMAGE_DATE 1999 7 29 *
SOURCE_IMAGE_ID "NAPP 10494 36" *
SOURCE_IMAGE_DATE 1999 7 29 *
SOURCE_IMAGE_ID "NAPP 10494 37" *
SOURCE_IMAGE_DATE 1999 7 29 *
SOURCE_DEM_DATE 2000 0 0 *
AGENCY "WESTERN MAPPING CENTER (WMC)" *
PRODUCER "USDA FS GEOSPATIAL SERVICE AND TECHNOLOGY CENTER" *
PRODUCTION_SYSTEM "ORBIT OR_RECTIFY V.5.2" *
STANDARD_VERSION 1996 12 *
METADATA_DATE 2001 6 4 *
DATA_FILE_SIZE 45709860 *
BYTE_COUNT 6020 * * * * * * * * * * * * * * * * *
END_USGS_HEADER *
