BEGIN_USGS_DOQ_HEADER *
QUADRANGLE_NAME "BOHEMOTASH MOUNTAIN" 3.45 or 7.5-min. name*
QUADRANT NE quadrant indicator if cell size = 3.75-minutes*
WEST_LONGITUDE -122 26 15.000 signed deg min sec SDDD MM SS.SSS*
EAST_LONGITUDE -122 22 30.000 signed deg min sec SDDD MM SS.SSS*
NORTH_LATITUDE 40 52 30.000 signed deg min sec SDDD MM SS.SSS*
SOUTH_LATITUDE 40 48 45.000 signed deg min sec SDDD MM SS.SSS*
PRODUCTION_DATE 1997 4 30 yyyy mm dd*
RASTER_ORDER LEFT_RIGHT/TOP_BOTTOM video display order*
BAND_ORGANIZATION "SINGLE FILE" single file or BSQ, or BIL or BIP*
BAND_CONTENT BLACK&WHITE black&white or red green blue*
BITS_PER_PIXEL 8 radiometric resolution*
SAMPLES_AND_LINES 6014 7591 number of columns and rows*
HORIZONTAL_DATUM NAD83 primary horizontal datum*
HORIZONTAL_COORDINATE_SYSTEM UTM *
COORDINATE_ZONE 10 coordinate system zone number*
HORIZONTAL_UNITS METERS coordinate system units*
HORIZONTAL_RESOLUTION 1.00 pixel horiz. ground sample distance*
SECONDARY_HORIZONTAL_DATUM NAD27 secondary horizontal datum*
XY_ORIGIN 547000.000 4525369.000 coord. of upper left pixel pri. datum*
SECONDARY_XY_ORIGIN 547095.915 4525172.198 coord upper left pixel sec datum*
NATION US nation code*
STATE CA state fip code*
NW_QUAD_CORNER_XY 547396.483 4525033.283 XY coords. of pri. NW quad corner*
NE_QUAD_CORNER_XY 552662.788 4525068.998 XY coords. of pri. NE quad corner*
SE_QUAD_CORNER_XY 552712.286 4518131.033 XY coords. of pri. SE quad corner*
SW_QUAD_CORNER_XY 547441.031 4518095.329 XY coords. of pri. SW quad corner*
SECONDARY_NW_QUAD_XY 547397.755 4524821.608 XY coords. - sec. NW quad cor.*
SECONDARY_NE_QUAD_XY 552664.201 4524857.324 XY coords. - sec. NE quad cor.*
SECONDARY_SE_QUAD_XY 552713.698 4517919.471 XY coords. - sec. SE quad cor.*
SECONDARY_SW_QUAD_XY 547442.302 4517883.766 XY coords. - sec. SW quad cor.*
RMSE_XY 2.30 doq horiz. accuracy*
IMAGE_SOURCE "BLACK AND WHITE FILM" b&w, cir, natural color, other*
SOURCE_IMAGE_ID "NAPP 6255 017" source image id*
SOURCE_IMAGE_DATE 1993 8 26 source image date as yyyy mm dd*
IMAGE_SOURCE "BLACK AND WHITE FILM" b&w, cir, natural color, other*
SOURCE_IMAGE_ID "NAPP 6255 015" source image id*
SOURCE_IMAGE_DATE 1993 8 26 source image date as yyyy mm dd*
IMAGE_SOURCE "BLACK AND WHITE FILM" b&w, cir, natural color, other*
SOURCE_IMAGE_ID "NAPP 6255 018" source image id*
SOURCE_IMAGE_DATE 1993 8 26 source image date as yyyy mm dd*
SOURCE_DEM_DATE 1997 4 30 source dem date yyyy mm dd*
AGENCY "WESTERN MAPPING CENTER (WMC)" oversight agency*
PRODUCER "Science Applications International" producer/contractor*
PRODUCTION_SYSTEM "GIS/MAGIC" production system*
STANDARD_VERSION 1996 12 version of DOQ standard*
METADATA_DATE 1997 10 18 date created or changed, yyyy mm dd*
DATA_FILE_SIZE 45658288 data set size in bytes*
BYTE_COUNT 6014 header byte count* * * * * * * * * * * * * * * * * * * * * * * * * * *
END_USGS_HEADER *
