BEGIN_USGS_DOQ_HEADER *
QUADRANGLE_NAME "BOHEMOTASH MOUNTAIN" *
QUADRANT SE *
WEST_LONGITUDE -122 26 15.000 *
EAST_LONGITUDE -122 22 30.000 *
NORTH_LATITUDE 40 48 45.000 *
SOUTH_LATITUDE 40 45 0.000 *
PRODUCTION_DATE 2001 5 30 *
RASTER_ORDER LEFT_RIGHT/TOP_BOTTOM *
BAND_ORGANIZATION "SINGLE FILE" *
BAND_CONTENT BLACK&WHITE *
BITS_PER_PIXEL 8 *
SAMPLES_AND_LINES 6015 7588 *
HORIZONTAL_DATUM NAD83 *
HORIZONTAL_COORDINATE_SYSTEM UTM *
COORDINATE_ZONE 10 *
HORIZONTAL_UNITS METERS *
HORIZONTAL_RESOLUTION 1.0 *
SECONDARY_HORIZONTAL_DATUM NAD27 *
XY_ORIGIN 547046.854 4518431.033 *
SECONDARY_XY_ORIGIN 547142.808 4518234.353 *
NATION US *
STATE CA *
NW_QUAD_CORNER_XY 547441.031 4518095.329 *
NE_QUAD_CORNER_XY 552712.286 4518131.033 *
SE_QUAD_CORNER_XY 552761.720 4511193.143 *
SW_QUAD_CORNER_XY 547485.521 4511157.451 *
SECONDARY_NW_QUAD_XY 547442.305 4517883.768 *
SECONDARY_NE_QUAD_XY 552713.702 4517919.472 *
SECONDARY_SE_QUAD_XY 552763.135 4510981.694 *
SECONDARY_SW_QUAD_XY 547486.795 4510946.001 *
RMSE_XY 1.23 *
IMAGE_SOURCE "BLACK AND WHITE FILM" *
SOURCE_IMAGE_ID "NAPP 10476 42" *
SOURCE_IMAGE_DATE 1998 8 11 *
SOURCE_IMAGE_ID "NAPP 10476 41" *
SOURCE_IMAGE_DATE 1998 8 11 *
SOURCE_IMAGE_ID "NAPP 10476 43" *
SOURCE_IMAGE_DATE 1998 8 11 *
SOURCE_IMAGE_ID "NAPP 10476 58" *
SOURCE_IMAGE_DATE 1998 8 11 *
SOURCE_IMAGE_ID "NAPP 10476 57" *
SOURCE_IMAGE_DATE 1998 8 11 *
SOURCE_IMAGE_ID "NAPP 10476 56" *
SOURCE_IMAGE_DATE 1998 8 11 *
SOURCE_IMAGE_ID "NAPP 10494 44" *
SOURCE_IMAGE_DATE 1999 7 29 *
SOURCE_IMAGE_ID "NAPP 10494 43" *
SOURCE_IMAGE_DATE 1999 7 29 *
SOURCE_IMAGE_ID "NAPP 10494 42" *
SOURCE_IMAGE_DATE 1999 7 29 *
SOURCE_DEM_DATE 2000 0 0 *
AGENCY "WESTERN MAPPING CENTER (WMC)" *
PRODUCER "USDA FS GEOSPATIAL SERVICE AND TECHNOLOGY CENTER" *
PRODUCTION_SYSTEM "ORBIT OR_RECTIFY V.5.2" *
STANDARD_VERSION 1996 12 *
METADATA_DATE 2001 6 4 *
DATA_FILE_SIZE 45647835 *
BYTE_COUNT 6015 * * * * * * * * * * * * * * * * *
END_USGS_HEADER *
