BEGIN_USGS_DOQ_HEADER *
QUADRANGLE_NAME "SCHELL MOUNTAIN" *
QUADRANT SE *
WEST_LONGITUDE -122 33 45.000 *
EAST_LONGITUDE -122 30 0.000 *
NORTH_LATITUDE 40 48 45.000 *
SOUTH_LATITUDE 40 45 0.000 *
PRODUCTION_DATE 2001 5 30 *
RASTER_ORDER LEFT_RIGHT/TOP_BOTTOM *
BAND_ORGANIZATION "SINGLE FILE" *
BAND_CONTENT BLACK&WHITE *
BITS_PER_PIXEL 8 *
SAMPLES_AND_LINES 6006 7581 *
HORIZONTAL_DATUM NAD83 *
HORIZONTAL_COORDINATE_SYSTEM UTM *
COORDINATE_ZONE 10 *
HORIZONTAL_UNITS METERS *
HORIZONTAL_RESOLUTION 1.0 *
SECONDARY_HORIZONTAL_DATUM NAD27 *
XY_ORIGIN 536503.483 4518362.884 *
SECONDARY_XY_ORIGIN 536599.535 4518166.220 *
NATION US *
STATE CA *
NW_QUAD_CORNER_XY 536898.545 4518035.198 *
NE_QUAD_CORNER_XY 542169.784 4518063.384 *
SE_QUAD_CORNER_XY 542209.331 4511125.516 *
SW_QUAD_CORNER_XY 536933.148 4511097.339 *
SECONDARY_NW_QUAD_XY 536899.536 4517823.635 *
SECONDARY_NE_QUAD_XY 542170.916 4517851.822 *
SECONDARY_SE_QUAD_XY 542210.463 4510914.066 *
SECONDARY_SW_QUAD_XY 536934.139 4510885.888 *
RMSE_XY 1.23 *
IMAGE_SOURCE "BLACK AND WHITE FILM" *
SOURCE_IMAGE_ID "NAPP 10482 100" *
SOURCE_IMAGE_DATE 1998 8 14 *
SOURCE_IMAGE_ID "NAPP 10482 101" *
SOURCE_IMAGE_DATE 1998 8 14 *
SOURCE_IMAGE_ID "NAPP 10482 99" *
SOURCE_IMAGE_DATE 1998 8 14 *
SOURCE_IMAGE_ID "NAPP 10486 115" *
SOURCE_IMAGE_DATE 1998 8 24 *
SOURCE_IMAGE_ID "NAPP 10486 114" *
SOURCE_IMAGE_DATE 1998 8 24 *
SOURCE_IMAGE_ID "NAPP 10486 113" *
SOURCE_IMAGE_DATE 1998 8 24 *
SOURCE_IMAGE_ID "NAPP 10476 58" *
SOURCE_IMAGE_DATE 1998 8 11 *
SOURCE_IMAGE_ID "NAPP 10476 57" *
SOURCE_IMAGE_DATE 1998 8 11 *
SOURCE_IMAGE_ID "NAPP 10476 56" *
SOURCE_IMAGE_DATE 1998 8 11 *
SOURCE_DEM_DATE 2000 0 0 *
AGENCY "WESTERN MAPPING CENTER (WMC)" *
PRODUCER "USDA FS GEOSPATIAL SERVICE AND TECHNOLOGY CENTER" *
PRODUCTION_SYSTEM "ORBIT OR_RECTIFY V.5.2" *
STANDARD_VERSION 1996 12 *
METADATA_DATE 2001 6 4 *
DATA_FILE_SIZE 45537492 *
BYTE_COUNT 6006 * * * * * * * * * * * * * * * * *
END_USGS_HEADER *
