BEGIN_USGS_DOQ_HEADER *
QUADRANGLE_NAME "SCHELL MOUNTAIN" 3.45 or 7.5-min. name*
QUADRANT SW quadrant indicator if cell size = 3.75-minutes*
WEST_LONGITUDE -122 37 30.000 signed deg min sec SDDD MM SS.SSS*
EAST_LONGITUDE -122 33 45.000 signed deg min sec SDDD MM SS.SSS*
NORTH_LATITUDE 40 48 45.000 signed deg min sec SDDD MM SS.SSS*
SOUTH_LATITUDE 40 45 0.000 signed deg min sec SDDD MM SS.SSS*
PRODUCTION_DATE 1996 12 17 yyyy mm dd*
RASTER_ORDER LEFT_RIGHT/TOP_BOTTOM video display order*
BAND_ORGANIZATION "SINGLE FILE" single file or BSQ, or BIL or BIP*
BAND_CONTENT BLACK&WHITE black&white or red green blue*
BITS_PER_PIXEL 8 radiometric resolution*
SAMPLES_AND_LINES 6004 7580 number of columns and rows*
HORIZONTAL_DATUM NAD83 primary horizontal datum*
HORIZONTAL_COORDINATE_SYSTEM UTM *
COORDINATE_ZONE 10 coordinate system zone number*
HORIZONTAL_UNITS METERS coordinate system units*
HORIZONTAL_RESOLUTION 1.00 pixel horiz. ground sample distance*
SECONDARY_HORIZONTAL_DATUM NAD27 secondary horizontal datum*
XY_ORIGIN 531231.000 4518336.000 coord. of upper left pixel pri. datum*
SECONDARY_XY_ORIGIN 531327.070 4518139.348 coord upper left pixel sec datum*
NATION US nation code*
STATE CA state fip code*
NW_QUAD_CORNER_XY 531627.312 4518010.769 XY coords. of pri. NW quad corner*
NE_QUAD_CORNER_XY 536898.545 4518035.198 XY coords. of pri. NE quad corner*
SE_QUAD_CORNER_XY 536933.148 4511097.339 XY coords. of pri. SE quad corner*
SW_QUAD_CORNER_XY 531656.972 4511072.918 XY coords. of pri. SW quad corner*
SECONDARY_NW_QUAD_XY 531628.159 4517799.204 XY coords. - sec. NW quad cor.*
SECONDARY_NE_QUAD_XY 536899.533 4517823.633 XY coords. - sec. NE quad cor.*
SECONDARY_SE_QUAD_XY 536934.136 4510885.886 XY coords. - sec. SE quad cor.*
SECONDARY_SW_QUAD_XY 531657.819 4510861.465 XY coords. - sec. SW quad cor.*
RMSE_XY 2.50 doq horiz. accuracy*
IMAGE_SOURCE "BLACK AND WHITE FILM" b&w, cir, natural color, other*
SOURCE_IMAGE_ID "NAPP 6249 086" source image id*
SOURCE_IMAGE_DATE 1993 6 13 source image date as yyyy mm dd*
SOURCE_DEM_DATE 1996 12 17 source dem date yyyy mm dd*
AGENCY "WESTERN MAPPING CENTER (WMC)" oversight agency*
PRODUCER "Science Applications International" producer/contractor*
PRODUCTION_SYSTEM "GIS/MAGIC" production system*
STANDARD_VERSION 1996 12 version of DOQ standard*
METADATA_DATE 1997 10 18 date created or changed, yyyy mm dd*
DATA_FILE_SIZE 45516324 data set size in bytes*
BYTE_COUNT 6004 header byte count* * * * * * * * * * * * * * * * * * * * * * * * * * * * * * * * *
END_USGS_HEADER *
