BEGIN_USGS_DOQ_HEADER *
QUADRANGLE_NAME "PAPOOSE CREEK" *
QUADRANT NE *
WEST_LONGITUDE -122 41 15.000 *
EAST_LONGITUDE -122 37 30.000 *
NORTH_LATITUDE 40 52 30.000 *
SOUTH_LATITUDE 40 48 45.000 *
PRODUCTION_DATE 2001 7 23 *
RASTER_ORDER LEFT_RIGHT/TOP_BOTTOM *
BAND_ORGANIZATION "SINGLE FILE" *
BAND_CONTENT BLACK&WHITE *
BITS_PER_PIXEL 8 *
SAMPLES_AND_LINES 5991 7574 *
HORIZONTAL_DATUM NAD83 *
HORIZONTAL_COORDINATE_SYSTEM UTM *
COORDINATE_ZONE 10 *
HORIZONTAL_UNITS METERS *
HORIZONTAL_RESOLUTION 1.0 *
SECONDARY_HORIZONTAL_DATUM NAD27 *
XY_ORIGIN 525936.507 4525248.695 *
SECONDARY_XY_ORIGIN 526032.544 4525051.976 *
NATION US *
STATE CA *
NW_QUAD_CORNER_XY 526331.337 4524928.019 *
NE_QUAD_CORNER_XY 531597.614 4524948.695 *
SE_QUAD_CORNER_XY 531627.312 4518010.769 *
SW_QUAD_CORNER_XY 526356.085 4517990.099 *
SECONDARY_NW_QUAD_XY 526332.046 4524716.343 *
SECONDARY_NE_QUAD_XY 531598.465 4524737.020 *
SECONDARY_SE_QUAD_XY 531628.162 4517799.206 *
SECONDARY_SW_QUAD_XY 526356.794 4517778.535 *
RMSE_XY 2.58 *
IMAGE_SOURCE "BLACK AND WHITE FILM" *
SOURCE_IMAGE_ID "NAPP 10485 107" *
SOURCE_IMAGE_DATE 1998 8 24 *
SOURCE_IMAGE_ID "NAPP 10485 106" *
SOURCE_IMAGE_DATE 1998 8 24 *
SOURCE_IMAGE_ID "NAPP 10485 108" *
SOURCE_IMAGE_DATE 1998 8 24 *
SOURCE_IMAGE_ID "NAPP 10485 85" *
SOURCE_IMAGE_DATE 1998 8 24 *
SOURCE_IMAGE_ID "NAPP 10485 84" *
SOURCE_IMAGE_DATE 1998 8 24 *
SOURCE_IMAGE_ID "NAPP 10485 83" *
SOURCE_IMAGE_DATE 1998 8 24 *
SOURCE_DEM_DATE 2000 0 0 *
AGENCY "WESTERN MAPPING CENTER (WMC)" *
PRODUCER "USDA FS GEOSPATIAL SERVICE AND TECHNOLOGY CENTER" *
PRODUCTION_SYSTEM "ORBIT OR_RECTIFY V.5.2" *
STANDARD_VERSION 1996 12 *
METADATA_DATE 2001 7 24 *
DATA_FILE_SIZE 45381825 *
BYTE_COUNT 5991 * * * * * * * * * * * * * * * * * * * * * *
END_USGS_HEADER *
