BEGIN_USGS_DOQ_HEADER *
QUADRANGLE_NAME "TRINITY DAM" *
QUADRANT SE *
WEST_LONGITUDE -122 48 45.000 *
EAST_LONGITUDE -122 45 0.000 *
NORTH_LATITUDE 40 48 45.000 *
SOUTH_LATITUDE 40 45 0.000 *
PRODUCTION_DATE 2001 7 23 *
RASTER_ORDER LEFT_RIGHT/TOP_BOTTOM *
BAND_ORGANIZATION "SINGLE FILE" *
BAND_CONTENT BLACK&WHITE *
BITS_PER_PIXEL 8 *
SAMPLES_AND_LINES 5987 7566 *
HORIZONTAL_DATUM NAD83 *
HORIZONTAL_COORDINATE_SYSTEM UTM *
COORDINATE_ZONE 10 *
HORIZONTAL_UNITS METERS *
HORIZONTAL_RESOLUTION 1.0 *
SECONDARY_HORIZONTAL_DATUM NAD27 *
XY_ORIGIN 515418.438 4518273.188 *
SECONDARY_XY_ORIGIN 515514.570 4518076.570 *
NATION US *
STATE CA *
NW_QUAD_CORNER_XY 515813.643 4517960.034 *
NE_QUAD_CORNER_XY 521084.862 4517973.188 *
SE_QUAD_CORNER_XY 521104.635 4511035.349 *
SW_QUAD_CORNER_XY 515828.473 4511022.200 *
SECONDARY_NW_QUAD_XY 515814.070 4517748.469 *
SECONDARY_NE_QUAD_XY 521085.430 4517761.623 *
SECONDARY_SE_QUAD_XY 521105.202 4510823.896 *
SECONDARY_SW_QUAD_XY 515828.899 4510810.747 *
RMSE_XY 2.58 *
IMAGE_SOURCE "BLACK AND WHITE FILM" *
SOURCE_IMAGE_ID "NAPP 10494 56" *
SOURCE_IMAGE_DATE 1999 7 29 *
SOURCE_IMAGE_ID "NAPP 10494 55" *
SOURCE_IMAGE_DATE 1999 7 29 *
SOURCE_IMAGE_ID "NAPP 10494 57" *
SOURCE_IMAGE_DATE 1999 7 29 *
SOURCE_IMAGE_ID "NAPP 10482 123" *
SOURCE_IMAGE_DATE 1998 8 14 *
SOURCE_IMAGE_ID "NAPP 10482 122" *
SOURCE_IMAGE_DATE 1998 8 14 *
SOURCE_IMAGE_ID "NAPP 10482 121" *
SOURCE_IMAGE_DATE 1998 8 14 *
SOURCE_IMAGE_ID "NAPP 10485 87" *
SOURCE_IMAGE_DATE 1998 8 24 *
SOURCE_IMAGE_ID "NAPP 10485 86" *
SOURCE_IMAGE_DATE 1998 8 24 *
SOURCE_IMAGE_ID "NAPP 10485 85" *
SOURCE_IMAGE_DATE 1998 8 24 *
SOURCE_DEM_DATE 2000 0 0 *
AGENCY "WESTERN MAPPING CENTER (WMC)" *
PRODUCER "USDA FS GEOSPATIAL SERVICE AND TECHNOLOGY CENTER" *
PRODUCTION_SYSTEM "ORBIT OR_RECTIFY V.5.2" *
STANDARD_VERSION 1996 12 *
METADATA_DATE 2001 7 24 *
DATA_FILE_SIZE 45303629 *
BYTE_COUNT 5987 * * * * * * * * * * * * * * * *
END_USGS_HEADER *
