BEGIN_USGS_DOQ_HEADER *
QUADRANGLE_NAME "TRINITY DAM" *
QUADRANT SW *
WEST_LONGITUDE -122 52 30.000 *
EAST_LONGITUDE -122 48 45.000 *
NORTH_LATITUDE 40 48 45.000 *
SOUTH_LATITUDE 40 45 0.000 *
PRODUCTION_DATE 2001 7 23 *
RASTER_ORDER LEFT_RIGHT/TOP_BOTTOM *
BAND_ORGANIZATION "SINGLE FILE" *
BAND_CONTENT BLACK&WHITE *
BITS_PER_PIXEL 8 *
SAMPLES_AND_LINES 5982 7562 *
HORIZONTAL_DATUM NAD83 *
HORIZONTAL_COORDINATE_SYSTEM UTM *
COORDINATE_ZONE 10 *
HORIZONTAL_UNITS METERS *
HORIZONTAL_RESOLUTION 1.0 *
SECONDARY_HORIZONTAL_DATUM NAD27 *
XY_ORIGIN 510146.558 4518260.034 *
SECONDARY_XY_ORIGIN 510242.712 4518063.417 *
NATION US *
STATE CA *
NW_QUAD_CORNER_XY 510542.427 4517950.639 *
NE_QUAD_CORNER_XY 515813.643 4517960.034 *
SE_QUAD_CORNER_XY 515828.473 4511022.200 *
SW_QUAD_CORNER_XY 510552.314 4511012.808 *
SECONDARY_NW_QUAD_XY 510542.713 4517739.073 *
SECONDARY_NE_QUAD_XY 515814.070 4517748.469 *
SECONDARY_SE_QUAD_XY 515828.899 4510810.747 *
SECONDARY_SW_QUAD_XY 510552.598 4510801.354 *
RMSE_XY 2.58 *
IMAGE_SOURCE "BLACK AND WHITE FILM" *
SOURCE_IMAGE_ID "NAPP 10482 122" *
SOURCE_IMAGE_DATE 1998 8 14 *
SOURCE_IMAGE_ID "NAPP 10482 123" *
SOURCE_IMAGE_DATE 1998 8 14 *
SOURCE_IMAGE_ID "NAPP 10482 121" *
SOURCE_IMAGE_DATE 1998 8 14 *
SOURCE_IMAGE_ID "NAPP 10482 156" *
SOURCE_IMAGE_DATE 1998 8 14 *
SOURCE_IMAGE_ID "NAPP 10482 157" *
SOURCE_IMAGE_DATE 1998 8 14 *
SOURCE_IMAGE_ID "NAPP 10482 158" *
SOURCE_IMAGE_DATE 1998 8 14 *
SOURCE_IMAGE_ID "NAPP 10494 55" *
SOURCE_IMAGE_DATE 1999 7 29 *
SOURCE_IMAGE_ID "NAPP 10494 56" *
SOURCE_IMAGE_DATE 1999 7 29 *
SOURCE_IMAGE_ID "NAPP 10494 57" *
SOURCE_IMAGE_DATE 1999 7 29 *
SOURCE_DEM_DATE 2000 0 0 *
AGENCY "WESTERN MAPPING CENTER (WMC)" *
PRODUCER "USDA FS GEOSPATIAL SERVICE AND TECHNOLOGY CENTER" *
PRODUCTION_SYSTEM "ORBIT OR_RECTIFY V.5.2" *
STANDARD_VERSION 1996 12 *
METADATA_DATE 2001 7 24 *
DATA_FILE_SIZE 45241866 *
BYTE_COUNT 5982 * * * * * * * * * * * * * * * *
END_USGS_HEADER *
