BEGIN_USGS_DOQ_HEADER *
QUADRANGLE_NAME "RUSH CREEK LAKES" 3.45 or 7.5-min. name*
QUADRANT NE quadrant indicator if cell size = 3.75-minutes*
WEST_LONGITUDE -122 56 15.000 signed deg min sec SDDD MM SS.SSS*
EAST_LONGITUDE -122 52 30.000 signed deg min sec SDDD MM SS.SSS*
NORTH_LATITUDE 40 52 30.000 signed deg min sec SDDD MM SS.SSS*
SOUTH_LATITUDE 40 48 45.000 signed deg min sec SDDD MM SS.SSS*
PRODUCTION_DATE 1996 4 1 yyyy mm dd*
RASTER_ORDER LEFT_RIGHT/TOP_BOTTOM video display order*
BAND_ORGANIZATION "SINGLE FILE" single file or BSQ, or BIL or BIP*
BAND_CONTENT BLACK&WHITE black&white or red green blue*
BITS_PER_PIXEL 8 radiometric resolution*
SAMPLES_AND_LINES 5982 7569 number of columns and rows*
HORIZONTAL_DATUM NAD83 primary horizontal datum*
HORIZONTAL_COORDINATE_SYSTEM UTM *
COORDINATE_ZONE 10 coordinate system zone number*
HORIZONTAL_UNITS METERS coordinate system units*
HORIZONTAL_RESOLUTION 1.00 pixel horiz. ground sample distance*
SECONDARY_HORIZONTAL_DATUM NAD27 secondary horizontal datum*
XY_ORIGIN 504865.500 4525193.500 coord. of upper left pixel pri. datum*
SECONDARY_XY_ORIGIN 504961.673 4524996.840 coord upper left pixel sec datum*
NATION US nation code*
STATE CA state fip code*
NW_QUAD_CORNER_XY 505266.264 4524882.907 XY coords. of pri. NW quad corner*
NE_QUAD_CORNER_XY 510532.528 4524888.546 XY coords. of pri. NE quad corner*
SE_QUAD_CORNER_XY 510542.427 4517950.639 XY coords. of pri. SE quad corner*
SW_QUAD_CORNER_XY 505271.213 4517945.002 XY coords. of pri. SW quad corner*
SECONDARY_NW_QUAD_XY 505266.405 4524671.228 XY coords. - sec. NW quad cor.*
SECONDARY_NE_QUAD_XY 510532.811 4524676.867 XY coords. - sec. NE quad cor.*
SECONDARY_SE_QUAD_XY 510542.710 4517739.072 XY coords. - sec. SE quad cor.*
SECONDARY_SW_QUAD_XY 505271.354 4517733.435 XY coords. - sec. SW quad cor.*
RMSE_XY 3.00 doq horiz. accuracy*
IMAGE_SOURCE "BLACK AND WHITE FILM" b&w, cir, natural color, other*
SOURCE_IMAGE_ID "PAPP 3253 646" source image id*
SOURCE_IMAGE_DATE 1993 7 25 source image date as yyyy mm dd*
IMAGE_SOURCE "BLACK AND WHITE FILM" b&w, cir, natural color, other*
SOURCE_IMAGE_ID "PAPP 3253 545" source image id*
SOURCE_IMAGE_DATE 1993 7 25 source image date as yyyy mm dd*
IMAGE_SOURCE "BLACK AND WHITE FILM" b&w, cir, natural color, other*
SOURCE_IMAGE_ID "PAPP 3253 747" source image id*
SOURCE_IMAGE_DATE 1993 7 25 source image date as yyyy mm dd*
SOURCE_DEM_DATE 1996 4 1 source dem date yyyy mm dd*
AGENCY "WESTERN MAPPING CENTER (WMC)" oversight agency*
PRODUCER "Woolpert Consultants" producer/contractor*
PRODUCTION_SYSTEM "INTERGRAPH ISPM,ISIR" production system*
STANDARD_VERSION 1996 12 version of DOQ standard*
METADATA_DATE 1997 5 27 date created or changed, yyyy mm dd*
DATA_FILE_SIZE 45283740 data set size in bytes*
BYTE_COUNT 5982 header byte count* * * * * * * * * * * * * * * * * * * * * * * * * *
END_USGS_HEADER *
