BEGIN_USGS_DOQ_HEADER *
QUADRANGLE_NAME "RUSH CREEK LAKES" *
QUADRANT NW *
WEST_LONGITUDE -123 0 0.000 *
EAST_LONGITUDE -122 56 15.000 *
NORTH_LATITUDE 40 52 30.000 *
SOUTH_LATITUDE 40 48 45.000 *
PRODUCTION_DATE 2001 7 23 *
RASTER_ORDER LEFT_RIGHT/TOP_BOTTOM *
BAND_ORGANIZATION "SINGLE FILE" *
BAND_CONTENT BLACK&WHITE *
BITS_PER_PIXEL 8 *
SAMPLES_AND_LINES 5967 7555 *
HORIZONTAL_DATUM NAD83 *
HORIZONTAL_COORDINATE_SYSTEM UTM *
COORDINATE_ZONE 10 *
HORIZONTAL_UNITS METERS *
HORIZONTAL_RESOLUTION 1.0 *
SECONDARY_HORIZONTAL_DATUM NAD27 *
XY_ORIGIN 499604.288 4525182.407 *
SECONDARY_XY_ORIGIN 499700.505 4524985.762 *
NATION US *
STATE CA *
NW_QUAD_CORNER_XY 500000.000 4524881.027 *
NE_QUAD_CORNER_XY 505266.264 4524882.907 *
SE_QUAD_CORNER_XY 505271.213 4517945.002 *
SW_QUAD_CORNER_XY 500000.000 4517943.123 *
SECONDARY_NW_QUAD_XY 500000.003 4524669.350 *
SECONDARY_NE_QUAD_XY 505266.408 4524671.229 *
SECONDARY_SE_QUAD_XY 505271.357 4517733.436 *
SECONDARY_SW_QUAD_XY 500000.002 4517731.557 *
RMSE_XY 2.58 *
IMAGE_SOURCE "BLACK AND WHITE FILM" *
SOURCE_IMAGE_ID "NAPP 10486 48" *
SOURCE_IMAGE_DATE 1998 8 24 *
SOURCE_IMAGE_ID "NAPP 10486 49" *
SOURCE_IMAGE_DATE 1998 8 24 *
SOURCE_IMAGE_ID "NAPP 10486 47" *
SOURCE_IMAGE_DATE 1998 8 24 *
SOURCE_IMAGE_ID "NAPP 10486 154" *
SOURCE_IMAGE_DATE 1998 8 24 *
SOURCE_IMAGE_ID "NAPP 10486 155" *
SOURCE_IMAGE_DATE 1998 8 24 *
SOURCE_IMAGE_ID "NAPP 10486 156" *
SOURCE_IMAGE_DATE 1998 8 24 *
SOURCE_IMAGE_ID "NAPP 10482 158" *
SOURCE_IMAGE_DATE 1998 8 14 *
SOURCE_IMAGE_ID "NAPP 10482 159" *
SOURCE_IMAGE_DATE 1998 8 14 *
SOURCE_IMAGE_ID "NAPP 10486 116" *
SOURCE_IMAGE_DATE 1998 8 24 *
SOURCE_DEM_DATE 1982 0 0 *
AGENCY "WESTERN MAPPING CENTER (WMC)" *
PRODUCER "USDA FS GEOSPATIAL SERVICE AND TECHNOLOGY CENTER" *
PRODUCTION_SYSTEM "ORBIT OR_RECTIFY V.5.2" *
STANDARD_VERSION 1996 12 *
METADATA_DATE 2001 7 24 *
DATA_FILE_SIZE 45086652 *
BYTE_COUNT 5967 * * * * * * * * * * * * * * * *
END_USGS_HEADER *
