BEGIN_USGS_DOQ_HEADER *
QUADRANGLE_NAME "GOOSE GAP" *
QUADRANT NE *
WEST_LONGITUDE -122 3 45.000 *
EAST_LONGITUDE -122 0 0.000 *
NORTH_LATITUDE 41 0 0.000 *
SOUTH_LATITUDE 40 56 15.000 *
PRODUCTION_DATE 2001 4 26 *
RASTER_ORDER LEFT_RIGHT/TOP_BOTTOM *
BAND_ORGANIZATION "SINGLE FILE" *
BAND_CONTENT BLACK&WHITE *
BITS_PER_PIXEL 8 *
SAMPLES_AND_LINES 6029 7611 *
HORIZONTAL_DATUM NAD83 *
HORIZONTAL_COORDINATE_SYSTEM UTM *
COORDINATE_ZONE 10 *
HORIZONTAL_UNITS METERS *
HORIZONTAL_RESOLUTION 1.0 *
SECONDARY_HORIZONTAL_DATUM NAD27 *
XY_ORIGIN 578452.797 4539538.089 *
SECONDARY_XY_ORIGIN 578548.305 4539340.785 *
NATION US *
STATE CA *
NW_QUAD_CORNER_XY 578845.683 4539180.276 *
NE_QUAD_CORNER_XY 584102.134 4539238.589 *
SE_QUAD_CORNER_XY 584181.538 4532300.384 *
SW_QUAD_CORNER_XY 578920.122 4532242.089 *
SECONDARY_NW_QUAD_XY 578847.807 4538968.390 *
SECONDARY_NE_QUAD_XY 584104.401 4539026.705 *
SECONDARY_SE_QUAD_XY 584183.803 4532088.609 *
SECONDARY_SW_QUAD_XY 578922.246 4532030.313 *
RMSE_XY 2.36 *
IMAGE_SOURCE "BLACK AND WHITE FILM" *
SOURCE_IMAGE_ID "NAPP 10486 182" *
SOURCE_IMAGE_DATE 1998 8 25 *
SOURCE_IMAGE_ID "NAPP 10486 181" *
SOURCE_IMAGE_DATE 1998 8 25 *
SOURCE_IMAGE_ID "NAPP 10486 183" *
SOURCE_IMAGE_DATE 1998 8 25 *
SOURCE_IMAGE_ID "NAPP 10482 24" *
SOURCE_IMAGE_DATE 1998 8 14 *
SOURCE_IMAGE_ID "NAPP 10482 23" *
SOURCE_IMAGE_DATE 1998 8 14 *
SOURCE_IMAGE_ID "NAPP 10482 22" *
SOURCE_IMAGE_DATE 1998 8 14 *
SOURCE_IMAGE_ID "NAPP 10502 160" *
SOURCE_IMAGE_DATE 1998 8 17 *
SOURCE_IMAGE_ID "NAPP 10502 161" *
SOURCE_IMAGE_DATE 1998 8 17 *
SOURCE_IMAGE_ID "NAPP 10510 38" *
SOURCE_IMAGE_DATE 1998 9 14 *
SOURCE_DEM_DATE 2000 0 0 *
AGENCY "WESTERN MAPPING CENTER (WMC)" *
PRODUCER "USDA FS GEOSPATIAL SERVICE AND TECHNOLOGY CENTER" *
PRODUCTION_SYSTEM "ORBIT OR_RECTIFY V.5.2" *
STANDARD_VERSION 1996 12 *
METADATA_DATE 2001 5 16 *
DATA_FILE_SIZE 45892748 *
BYTE_COUNT 6029 * * * * * * * * * * * * * * * * *
END_USGS_HEADER *
