BEGIN_USGS_DOQ_HEADER *
QUADRANGLE_NAME "GOOSE GAP" *
QUADRANT SW *
WEST_LONGITUDE -122 7 30.000 *
EAST_LONGITUDE -122 3 45.000 *
NORTH_LATITUDE 40 56 15.000 *
SOUTH_LATITUDE 40 52 30.000 *
PRODUCTION_DATE 2001 4 26 *
RASTER_ORDER LEFT_RIGHT/TOP_BOTTOM *
BAND_ORGANIZATION "SINGLE FILE" *
BAND_CONTENT BLACK&WHITE *
BITS_PER_PIXEL 8 *
SAMPLES_AND_LINES 6029 7607 *
HORIZONTAL_DATUM NAD83 *
HORIZONTAL_COORDINATE_SYSTEM UTM *
COORDINATE_ZONE 10 *
HORIZONTAL_UNITS METERS *
HORIZONTAL_RESOLUTION 1.0 *
SECONDARY_HORIZONTAL_DATUM NAD27 *
XY_ORIGIN 573265.614 4532541.589 *
SECONDARY_XY_ORIGIN 573361.200 4532344.500 *
NATION US *
STATE CA *
NW_QUAD_CORNER_XY 573658.720 4532187.556 *
NE_QUAD_CORNER_XY 578920.122 4532242.089 *
SE_QUAD_CORNER_XY 578994.467 4525303.975 *
SW_QUAD_CORNER_XY 573728.108 4525249.459 *
SECONDARY_NW_QUAD_XY 573660.702 4531975.778 *
SECONDARY_NE_QUAD_XY 578922.246 4532030.313 *
SECONDARY_SE_QUAD_XY 578996.590 4525092.310 *
SECONDARY_SW_QUAD_XY 573730.089 4525037.792 *
RMSE_XY 2.36 *
IMAGE_SOURCE "BLACK AND WHITE FILM" *
SOURCE_IMAGE_ID "NAPP 10482 25" *
SOURCE_IMAGE_DATE 1998 8 14 *
SOURCE_IMAGE_ID "NAPP 10491 39" *
SOURCE_IMAGE_DATE 1998 9 10 *
SOURCE_IMAGE_ID "NAPP 10482 24" *
SOURCE_IMAGE_DATE 1998 8 14 *
SOURCE_IMAGE_ID "NAPP 10482 1" *
SOURCE_IMAGE_DATE 1998 8 14 *
SOURCE_IMAGE_ID "NAPP 10482 2" *
SOURCE_IMAGE_DATE 1998 8 14 *
SOURCE_IMAGE_ID "NAPP 10482 3" *
SOURCE_IMAGE_DATE 1998 8 14 *
SOURCE_IMAGE_ID "NAPP 10491 40" *
SOURCE_IMAGE_DATE 1998 9 10 *
SOURCE_IMAGE_ID "NAPP 10486 180" *
SOURCE_IMAGE_DATE 1998 8 25 *
SOURCE_IMAGE_ID "NAPP 10486 181" *
SOURCE_IMAGE_DATE 1998 8 25 *
SOURCE_DEM_DATE 2000 0 0 *
AGENCY "WESTERN MAPPING CENTER (WMC)" *
PRODUCER "USDA FS GEOSPATIAL SERVICE AND TECHNOLOGY CENTER" *
PRODUCTION_SYSTEM "ORBIT OR_RECTIFY V.5.2" *
STANDARD_VERSION 1996 12 *
METADATA_DATE 2001 5 16 *
DATA_FILE_SIZE 45868632 *
BYTE_COUNT 6029 * * * * * * * * * * * * * * * * *
END_USGS_HEADER *
