BEGIN_USGS_DOQ_HEADER *
QUADRANGLE_NAME "BOLLIBOKKA MOUNTAIN" *
QUADRANT NE *
WEST_LONGITUDE -122 11 15.000 *
EAST_LONGITUDE -122 7 30.000 *
NORTH_LATITUDE 41 0 0.000 *
SOUTH_LATITUDE 40 56 15.000 *
PRODUCTION_DATE 2001 4 26 *
RASTER_ORDER LEFT_RIGHT/TOP_BOTTOM *
BAND_ORGANIZATION "SINGLE FILE" *
BAND_CONTENT BLACK&WHITE *
BITS_PER_PIXEL 8 *
SAMPLES_AND_LINES 6020 7604 *
HORIZONTAL_DATUM NAD83 *
HORIZONTAL_COORDINATE_SYSTEM UTM *
COORDINATE_ZONE 10 *
HORIZONTAL_UNITS METERS *
HORIZONTAL_RESOLUTION 1.0 *
SECONDARY_HORIZONTAL_DATUM NAD27 *
XY_ORIGIN 567939.102 4539425.726 *
SECONDARY_XY_ORIGIN 568034.657 4539228.533 *
NATION US *
STATE CA *
NW_QUAD_CORNER_XY 568332.818 4539074.939 *
NE_QUAD_CORNER_XY 573589.244 4539125.726 *
SE_QUAD_CORNER_XY 573658.720 4532187.556 *
SW_QUAD_CORNER_XY 568397.330 4532136.784 *
SECONDARY_NW_QUAD_XY 568334.659 4538863.050 *
SECONDARY_NE_QUAD_XY 573591.227 4538913.838 *
SECONDARY_SE_QUAD_XY 573660.702 4531975.778 *
SECONDARY_SW_QUAD_XY 568399.171 4531925.005 *
RMSE_XY 2.36 *
IMAGE_SOURCE "BLACK AND WHITE FILM" *
SOURCE_IMAGE_ID "NAPP 10482 4" *
SOURCE_IMAGE_DATE 1998 8 14 *
SOURCE_IMAGE_ID "NAPP 10482 3" *
SOURCE_IMAGE_DATE 1998 8 14 *
SOURCE_IMAGE_ID "NAPP 10482 5" *
SOURCE_IMAGE_DATE 1998 8 14 *
SOURCE_IMAGE_ID "NAPP 10481 256" *
SOURCE_IMAGE_DATE 1998 8 14 *
SOURCE_IMAGE_ID "NAPP 10481 255" *
SOURCE_IMAGE_DATE 1998 8 14 *
SOURCE_IMAGE_ID "NAPP 10481 254" *
SOURCE_IMAGE_DATE 1998 8 14 *
SOURCE_IMAGE_ID "NAPP 10482 24" *
SOURCE_IMAGE_DATE 1998 8 14 *
SOURCE_IMAGE_ID "NAPP 10482 23" *
SOURCE_IMAGE_DATE 1998 8 14 *
SOURCE_IMAGE_ID "NAPP 10482 22" *
SOURCE_IMAGE_DATE 1998 8 14 *
SOURCE_DEM_DATE 2000 0 0 *
AGENCY "WESTERN MAPPING CENTER (WMC)" *
PRODUCER "USDA FS GEOSPATIAL SERVICE AND TECHNOLOGY CENTER" *
PRODUCTION_SYSTEM "ORBIT OR_RECTIFY V.5.2" *
STANDARD_VERSION 1996 12 *
METADATA_DATE 2001 5 16 *
DATA_FILE_SIZE 45782100 *
BYTE_COUNT 6020 * * * * * * * * * * * * * * * * *
END_USGS_HEADER *
