BEGIN_USGS_DOQ_HEADER *
QUADRANGLE_NAME "BOLLIBOKKA MOUNTAIN" *
QUADRANT NW *
WEST_LONGITUDE -122 15 0.000 *
EAST_LONGITUDE -122 11 15.000 *
NORTH_LATITUDE 41 0 0.000 *
SOUTH_LATITUDE 40 56 15.000 *
PRODUCTION_DATE 2001 4 26 *
RASTER_ORDER LEFT_RIGHT/TOP_BOTTOM *
BAND_ORGANIZATION "SINGLE FILE" *
BAND_CONTENT BLACK&WHITE *
BITS_PER_PIXEL 8 *
SAMPLES_AND_LINES 6015 7600 *
HORIZONTAL_DATUM NAD83 *
HORIZONTAL_COORDINATE_SYSTEM UTM *
COORDINATE_ZONE 10 *
HORIZONTAL_UNITS METERS *
HORIZONTAL_RESOLUTION 1.0 *
SECONDARY_HORIZONTAL_DATUM NAD27 *
XY_ORIGIN 562683.022 4539374.939 *
SECONDARY_XY_ORIGIN 562778.606 4539177.800 *
NATION US *
STATE CA *
NW_QUAD_CORNER_XY 563076.403 4539027.914 *
NE_QUAD_CORNER_XY 568332.818 4539074.939 *
SE_QUAD_CORNER_XY 568397.330 4532136.784 *
SW_QUAD_CORNER_XY 563135.952 4532089.774 *
SECONDARY_NW_QUAD_XY 563078.104 4538816.023 *
SECONDARY_NE_QUAD_XY 568334.659 4538863.050 *
SECONDARY_SE_QUAD_XY 568399.171 4531925.005 *
SECONDARY_SW_QUAD_XY 563137.653 4531877.993 *
RMSE_XY 2.36 *
IMAGE_SOURCE "BLACK AND WHITE FILM" *
SOURCE_IMAGE_ID "NAPP 10481 255" *
SOURCE_IMAGE_DATE 1998 8 14 *
SOURCE_IMAGE_ID "NAPP 10481 256" *
SOURCE_IMAGE_DATE 1998 8 14 *
SOURCE_IMAGE_ID "NAPP 10481 254" *
SOURCE_IMAGE_DATE 1998 8 14 *
SOURCE_IMAGE_ID "NAPP 10481 231" *
SOURCE_IMAGE_DATE 1998 8 14 *
SOURCE_IMAGE_ID "NAPP 10481 232" *
SOURCE_IMAGE_DATE 1998 8 14 *
SOURCE_IMAGE_ID "NAPP 10481 233" *
SOURCE_IMAGE_DATE 1998 8 14 *
SOURCE_IMAGE_ID "NAPP 10482 3" *
SOURCE_IMAGE_DATE 1998 8 14 *
SOURCE_IMAGE_ID "NAPP 10482 4" *
SOURCE_IMAGE_DATE 1998 8 14 *
SOURCE_IMAGE_ID "NAPP 10482 5" *
SOURCE_IMAGE_DATE 1998 8 14 *
SOURCE_DEM_DATE 2000 0 0 *
AGENCY "WESTERN MAPPING CENTER (WMC)" *
PRODUCER "USDA FS GEOSPATIAL SERVICE AND TECHNOLOGY CENTER" *
PRODUCTION_SYSTEM "ORBIT OR_RECTIFY V.5.2" *
STANDARD_VERSION 1996 12 *
METADATA_DATE 2001 5 16 *
DATA_FILE_SIZE 45720015 *
BYTE_COUNT 6015 * * * * * * * * * * * * * * * * *
END_USGS_HEADER *
