BEGIN_USGS_DOQ_HEADER *
QUADRANGLE_NAME "BOLLIBOKKA MOUNTAIN" 3.45 or 7.5-min. name*
QUADRANT SE quadrant indicator if cell size = 3.75-minutes*
WEST_LONGITUDE -122 11 15.000 signed deg min sec SDDD MM SS.SSS*
EAST_LONGITUDE -122 7 30.000 signed deg min sec SDDD MM SS.SSS*
NORTH_LATITUDE 40 56 15.000 signed deg min sec SDDD MM SS.SSS*
SOUTH_LATITUDE 40 52 30.000 signed deg min sec SDDD MM SS.SSS*
PRODUCTION_DATE 1997 4 30 yyyy mm dd*
RASTER_ORDER LEFT_RIGHT/TOP_BOTTOM video display order*
BAND_ORGANIZATION "SINGLE FILE" single file or BSQ, or BIL or BIP*
BAND_CONTENT BLACK&WHITE black&white or red green blue*
BITS_PER_PIXEL 8 radiometric resolution*
SAMPLES_AND_LINES 6028 7607 number of columns and rows*
HORIZONTAL_DATUM NAD83 primary horizontal datum*
HORIZONTAL_COORDINATE_SYSTEM UTM *
COORDINATE_ZONE 10 coordinate system zone number*
HORIZONTAL_UNITS METERS coordinate system units*
HORIZONTAL_RESOLUTION 1.00 pixel horiz. ground sample distance*
SECONDARY_HORIZONTAL_DATUM NAD27 secondary horizontal datum*
XY_ORIGIN 568002.000 4532488.000 coord. of upper left pixel pri. datum*
SECONDARY_XY_ORIGIN 568097.598 4532290.960 coord upper left pixel sec datum*
NATION US nation code*
STATE CA state fip code*
NW_QUAD_CORNER_XY 568397.330 4532136.784 XY coords. of pri. NW quad corner*
NE_QUAD_CORNER_XY 573658.720 4532187.555 XY coords. of pri. NE quad corner*
SE_QUAD_CORNER_XY 573728.108 4525249.459 XY coords. of pri. SE quad corner*
SW_QUAD_CORNER_XY 568461.761 4525198.703 XY coords. of pri. SW quad corner*
SECONDARY_NW_QUAD_XY 568399.168 4531925.003 XY coords. - sec. NW quad cor.*
SECONDARY_NE_QUAD_XY 573660.699 4531975.775 XY coords. - sec. NE quad cor.*
SECONDARY_SE_QUAD_XY 573730.086 4525037.790 XY coords. - sec. SE quad cor.*
SECONDARY_SW_QUAD_XY 568463.598 4524987.033 XY coords. - sec. SW quad cor.*
RMSE_XY 2.70 doq horiz. accuracy*
IMAGE_SOURCE "BLACK AND WHITE FILM" b&w, cir, natural color, other*
SOURCE_IMAGE_ID "NAPP 6244 190" source image id*
SOURCE_IMAGE_DATE 1993 6 11 source image date as yyyy mm dd*
IMAGE_SOURCE "BLACK AND WHITE FILM" b&w, cir, natural color, other*
SOURCE_IMAGE_ID "NAPP 6244 191" source image id*
SOURCE_IMAGE_DATE 1993 6 11 source image date as yyyy mm dd*
IMAGE_SOURCE "BLACK AND WHITE FILM" b&w, cir, natural color, other*
SOURCE_IMAGE_ID "NAPP 6244 189" source image id*
SOURCE_IMAGE_DATE 1993 6 11 source image date as yyyy mm dd*
IMAGE_SOURCE "BLACK AND WHITE FILM" b&w, cir, natural color, other*
SOURCE_IMAGE_ID "NAPP 6244 167" source image id*
SOURCE_IMAGE_DATE 1993 6 11 source image date as yyyy mm dd*
SOURCE_DEM_DATE 1997 4 30 source dem date yyyy mm dd*
AGENCY "WESTERN MAPPING CENTER (WMC)" oversight agency*
PRODUCER "Science Applications International" producer/contractor*
PRODUCTION_SYSTEM "GIS/MAGIC" production system*
STANDARD_VERSION 1996 12 version of DOQ standard*
METADATA_DATE 1997 10 30 date created or changed, yyyy mm dd*
DATA_FILE_SIZE 45861024 data set size in bytes*
BYTE_COUNT 6028 header byte count* * * * * * * * * * * * * * * * * * * * * * * *
END_USGS_HEADER *
