BEGIN_USGS_DOQ_HEADER *
QUADRANGLE_NAME "BOLLIBOKKA MOUNTAIN" *
QUADRANT SE *
WEST_LONGITUDE -122 11 15.000 *
EAST_LONGITUDE -122 7 30.000 *
NORTH_LATITUDE 40 56 15.000 *
SOUTH_LATITUDE 40 52 30.000 *
PRODUCTION_DATE 2001 4 26 *
RASTER_ORDER LEFT_RIGHT/TOP_BOTTOM *
BAND_ORGANIZATION "SINGLE FILE" *
BAND_CONTENT BLACK&WHITE *
BITS_PER_PIXEL 8 *
SAMPLES_AND_LINES 6025 7604 *
HORIZONTAL_DATUM NAD83 *
HORIZONTAL_COORDINATE_SYSTEM UTM *
COORDINATE_ZONE 10 *
HORIZONTAL_UNITS METERS *
HORIZONTAL_RESOLUTION 1.0 *
SECONDARY_HORIZONTAL_DATUM NAD27 *
XY_ORIGIN 568004.067 4532487.556 *
SECONDARY_XY_ORIGIN 568099.670 4532290.519 *
NATION US *
STATE CA *
NW_QUAD_CORNER_XY 568397.330 4532136.784 *
NE_QUAD_CORNER_XY 573658.720 4532187.556 *
SE_QUAD_CORNER_XY 573728.108 4525249.459 *
SW_QUAD_CORNER_XY 568461.761 4525198.703 *
SECONDARY_NW_QUAD_XY 568399.171 4531925.005 *
SECONDARY_NE_QUAD_XY 573660.702 4531975.778 *
SECONDARY_SE_QUAD_XY 573730.089 4525037.792 *
SECONDARY_SW_QUAD_XY 568463.600 4524987.035 *
RMSE_XY 2.36 *
IMAGE_SOURCE "BLACK AND WHITE FILM" *
SOURCE_IMAGE_ID "NAPP 10482 2" *
SOURCE_IMAGE_DATE 1998 8 14 *
SOURCE_IMAGE_ID "NAPP 10482 1" *
SOURCE_IMAGE_DATE 1998 8 14 *
SOURCE_IMAGE_ID "NAPP 10482 3" *
SOURCE_IMAGE_DATE 1998 8 14 *
SOURCE_IMAGE_ID "NAPP 10481 258" *
SOURCE_IMAGE_DATE 1998 8 14 *
SOURCE_IMAGE_ID "NAPP 10481 257" *
SOURCE_IMAGE_DATE 1998 8 14 *
SOURCE_IMAGE_ID "NAPP 10481 256" *
SOURCE_IMAGE_DATE 1998 8 14 *
SOURCE_IMAGE_ID "NAPP 10491 39" *
SOURCE_IMAGE_DATE 1998 9 10 *
SOURCE_IMAGE_ID "NAPP 10482 25" *
SOURCE_IMAGE_DATE 1998 8 14 *
SOURCE_IMAGE_ID "NAPP 10482 24" *
SOURCE_IMAGE_DATE 1998 8 14 *
SOURCE_DEM_DATE 2000 0 0 *
AGENCY "WESTERN MAPPING CENTER (WMC)" *
PRODUCER "USDA FS GEOSPATIAL SERVICE AND TECHNOLOGY CENTER" *
PRODUCTION_SYSTEM "ORBIT OR_RECTIFY V.5.2" *
STANDARD_VERSION 1996 12 *
METADATA_DATE 2001 5 16 *
DATA_FILE_SIZE 45820125 *
BYTE_COUNT 6025 * * * * * * * * * * * * * * * * *
END_USGS_HEADER *
