BEGIN_USGS_DOQ_HEADER *
QUADRANGLE_NAME "HANLAND PEAK" 3.45 or 7.5-min. name*
QUADRANT NW quadrant indicator if cell size = 3.75-minutes*
WEST_LONGITUDE -122 22 30.000 signed deg min sec SDDD MM SS.SSS*
EAST_LONGITUDE -122 18 45.000 signed deg min sec SDDD MM SS.SSS*
NORTH_LATITUDE 41 0 0.000 signed deg min sec SDDD MM SS.SSS*
SOUTH_LATITUDE 40 56 15.000 signed deg min sec SDDD MM SS.SSS*
PRODUCTION_DATE 1997 4 30 yyyy mm dd*
RASTER_ORDER LEFT_RIGHT/TOP_BOTTOM video display order*
BAND_ORGANIZATION "SINGLE FILE" single file or BSQ, or BIL or BIP*
BAND_CONTENT BLACK&WHITE black&white or red green blue*
BITS_PER_PIXEL 8 radiometric resolution*
SAMPLES_AND_LINES 6008 7595 number of columns and rows*
HORIZONTAL_DATUM NAD83 primary horizontal datum*
HORIZONTAL_COORDINATE_SYSTEM UTM *
COORDINATE_ZONE 10 coordinate system zone number*
HORIZONTAL_UNITS METERS coordinate system units*
HORIZONTAL_RESOLUTION 1.00 pixel horiz. ground sample distance*
SECONDARY_HORIZONTAL_DATUM NAD27 secondary horizontal datum*
XY_ORIGIN 552168.000 4539285.000 coord. of upper left pixel pri. datum*
SECONDARY_XY_ORIGIN 552263.756 4539087.931 coord upper left pixel sec datum*
NATION US nation code*
STATE CA state fip code*
NW_QUAD_CORNER_XY 552563.604 4538945.151 XY coords. of pri. NW quad corner*
NE_QUAD_CORNER_XY 557819.999 4538984.651 XY coords. of pri. NE quad corner*
SE_QUAD_CORNER_XY 557874.585 4532046.525 XY coords. of pri. SE quad corner*
SW_QUAD_CORNER_XY 552613.228 4532007.037 XY coords. of pri. SW quad corner*
SECONDARY_NW_QUAD_XY 552565.019 4538733.256 XY coords. - sec. NW quad cor.*
SECONDARY_NE_QUAD_XY 557821.555 4538772.757 XY coords. - sec. NE quad cor.*
SECONDARY_SE_QUAD_XY 557876.140 4531834.741 XY coords. - sec. SE quad cor.*
SECONDARY_SW_QUAD_XY 552614.642 4531795.252 XY coords. - sec. SW quad cor.*
RMSE_XY 6.20 doq horiz. accuracy*
IMAGE_SOURCE "BLACK AND WHITE FILM" b&w, cir, natural color, other*
SOURCE_IMAGE_ID "NAPP 6244 126" source image id*
SOURCE_IMAGE_DATE 1993 6 11 source image date as yyyy mm dd*
IMAGE_SOURCE "BLACK AND WHITE FILM" b&w, cir, natural color, other*
SOURCE_IMAGE_ID "NAPP 6244 127" source image id*
SOURCE_IMAGE_DATE 1993 6 11 source image date as yyyy mm dd*
IMAGE_SOURCE "BLACK AND WHITE FILM" b&w, cir, natural color, other*
SOURCE_IMAGE_ID "NAPP 6255 02" source image id*
SOURCE_IMAGE_DATE 1993 6 11 source image date as yyyy mm dd*
SOURCE_DEM_DATE 1997 4 30 source dem date yyyy mm dd*
AGENCY "WESTERN MAPPING CENTER (WMC)" oversight agency*
PRODUCER "Science Applications International" producer/contractor*
PRODUCTION_SYSTEM "GIS/MAGIC" production system*
STANDARD_VERSION 1996 12 version of DOQ standard*
METADATA_DATE 1997 10 28 date created or changed, yyyy mm dd*
DATA_FILE_SIZE 45636768 data set size in bytes*
BYTE_COUNT 6008 header byte count* * * * * * * * * * * * * * * * * * * * * * * * * * *
END_USGS_HEADER *
