BEGIN_USGS_DOQ_HEADER *
QUADRANGLE_NAME "HANLAND PEAK" *
QUADRANT SE *
WEST_LONGITUDE -122 18 45.000 *
EAST_LONGITUDE -122 15 0.000 *
NORTH_LATITUDE 40 56 15.000 *
SOUTH_LATITUDE 40 52 30.000 *
PRODUCTION_DATE 2001 5 30 *
RASTER_ORDER LEFT_RIGHT/TOP_BOTTOM *
BAND_ORGANIZATION "SINGLE FILE" *
BAND_CONTENT BLACK&WHITE *
BITS_PER_PIXEL 8 *
SAMPLES_AND_LINES 6015 7596 *
HORIZONTAL_DATUM NAD83 *
HORIZONTAL_COORDINATE_SYSTEM UTM *
COORDINATE_ZONE 10 *
HORIZONTAL_UNITS METERS *
HORIZONTAL_RESOLUTION 1.0 *
SECONDARY_HORIZONTAL_DATUM NAD27 *
XY_ORIGIN 557480.936 4532389.774 *
SECONDARY_XY_ORIGIN 557576.647 4532192.813 *
NATION US *
STATE CA *
NW_QUAD_CORNER_XY 557874.585 4532046.525 *
NE_QUAD_CORNER_XY 563135.952 4532089.774 *
SE_QUAD_CORNER_XY 563195.426 4525151.708 *
SW_QUAD_CORNER_XY 557929.102 4525108.473 *
SECONDARY_NW_QUAD_XY 557876.144 4531834.743 *
SECONDARY_NE_QUAD_XY 563137.653 4531877.993 *
SECONDARY_SE_QUAD_XY 563197.126 4524940.038 *
SECONDARY_SW_QUAD_XY 557930.660 4524896.802 *
RMSE_XY 1.23 *
IMAGE_SOURCE "BLACK AND WHITE FILM" *
SOURCE_IMAGE_ID "NAPP 10481 230" *
SOURCE_IMAGE_DATE 1998 8 14 *
SOURCE_IMAGE_ID "NAPP 10494 39" *
SOURCE_IMAGE_DATE 1999 7 29 *
SOURCE_IMAGE_ID "NAPP 10481 231" *
SOURCE_IMAGE_DATE 1998 8 14 *
SOURCE_IMAGE_ID "NAPP 10494 40" *
SOURCE_IMAGE_DATE 1999 7 29 *
SOURCE_IMAGE_ID "NAPP 10482 28" *
SOURCE_IMAGE_DATE 1998 8 14 *
SOURCE_IMAGE_ID "NAPP 10482 29" *
SOURCE_IMAGE_DATE 1998 8 14 *
SOURCE_IMAGE_ID "NAPP 10481 258" *
SOURCE_IMAGE_DATE 1998 8 14 *
SOURCE_IMAGE_ID "NAPP 10481 257" *
SOURCE_IMAGE_DATE 1998 8 14 *
SOURCE_IMAGE_ID "NAPP 10481 256" *
SOURCE_IMAGE_DATE 1998 8 14 *
SOURCE_DEM_DATE 2000 0 0 *
AGENCY "WESTERN MAPPING CENTER (WMC)" *
PRODUCER "USDA FS GEOSPATIAL SERVICE AND TECHNOLOGY CENTER" *
PRODUCTION_SYSTEM "ORBIT OR_RECTIFY V.5.2" *
STANDARD_VERSION 1996 12 *
METADATA_DATE 2001 6 4 *
DATA_FILE_SIZE 45695955 *
BYTE_COUNT 6015 * * * * * * * * * * * * * * * * *
END_USGS_HEADER *
