BEGIN_USGS_DOQ_HEADER *
QUADRANGLE_NAME "LAMOINE" *
QUADRANT NE *
WEST_LONGITUDE -122 26 15.000 *
EAST_LONGITUDE -122 22 30.000 *
NORTH_LATITUDE 41 0 0.000 *
SOUTH_LATITUDE 40 56 15.000 *
PRODUCTION_DATE 2001 5 30 *
RASTER_ORDER LEFT_RIGHT/TOP_BOTTOM *
BAND_ORGANIZATION "SINGLE FILE" *
BAND_CONTENT BLACK&WHITE *
BITS_PER_PIXEL 8 *
SAMPLES_AND_LINES 6001 7589 *
HORIZONTAL_DATUM NAD83 *
HORIZONTAL_COORDINATE_SYSTEM UTM *
COORDINATE_ZONE 10 *
HORIZONTAL_UNITS METERS *
HORIZONTAL_RESOLUTION 1.0 *
SECONDARY_HORIZONTAL_DATUM NAD27 *
XY_ORIGIN 546913.150 4539244.651 *
SECONDARY_XY_ORIGIN 547008.996 4539047.624 *
NATION US *
STATE CA *
NW_QUAD_CORNER_XY 547307.219 4538909.414 *
NE_QUAD_CORNER_XY 552563.604 4538945.151 *
SE_QUAD_CORNER_XY 552613.228 4532007.037 *
SW_QUAD_CORNER_XY 547351.879 4531971.311 *
SECONDARY_NW_QUAD_XY 547308.496 4538697.520 *
SECONDARY_NE_QUAD_XY 552565.023 4538733.259 *
SECONDARY_SE_QUAD_XY 552614.645 4531795.255 *
SECONDARY_SW_QUAD_XY 547353.156 4531759.527 *
RMSE_XY 1.23 *
IMAGE_SOURCE "BLACK AND WHITE FILM" *
SOURCE_IMAGE_ID "NAPP 10476 48" *
SOURCE_IMAGE_DATE 1998 8 11 *
SOURCE_IMAGE_ID "NAPP 10476 47" *
SOURCE_IMAGE_DATE 1998 8 11 *
SOURCE_IMAGE_ID "NAPP 10486 78" *
SOURCE_IMAGE_DATE 1998 8 24 *
SOURCE_IMAGE_ID "NAPP 10476 52" *
SOURCE_IMAGE_DATE 1998 8 11 *
SOURCE_IMAGE_ID "NAPP 10476 51" *
SOURCE_IMAGE_DATE 1998 8 11 *
SOURCE_IMAGE_ID "NAPP 10487 130" *
SOURCE_IMAGE_DATE 1998 8 27 *
SOURCE_IMAGE_ID "NAPP 10482 29" *
SOURCE_IMAGE_DATE 1998 8 14 *
SOURCE_IMAGE_ID "NAPP 10482 30" *
SOURCE_IMAGE_DATE 1998 8 14 *
SOURCE_IMAGE_ID "NAPP 10482 31" *
SOURCE_IMAGE_DATE 1998 8 14 *
SOURCE_DEM_DATE 2000 0 0 *
AGENCY "WESTERN MAPPING CENTER (WMC)" *
PRODUCER "USDA FS GEOSPATIAL SERVICE AND TECHNOLOGY CENTER" *
PRODUCTION_SYSTEM "ORBIT OR_RECTIFY V.5.2" *
STANDARD_VERSION 1996 12 *
METADATA_DATE 2001 6 4 *
DATA_FILE_SIZE 45547590 *
BYTE_COUNT 6001 * * * * * * * * * * * * * * * *
END_USGS_HEADER *
