BEGIN_USGS_DOQ_HEADER *
QUADRANGLE_NAME "LAMOINE" *
QUADRANT NW *
WEST_LONGITUDE -122 30 0.000 *
EAST_LONGITUDE -122 26 15.000 *
NORTH_LATITUDE 41 0 0.000 *
SOUTH_LATITUDE 40 56 15.000 *
PRODUCTION_DATE 2001 5 30 *
RASTER_ORDER LEFT_RIGHT/TOP_BOTTOM *
BAND_ORGANIZATION "SINGLE FILE" *
BAND_CONTENT BLACK&WHITE *
BITS_PER_PIXEL 8 *
SAMPLES_AND_LINES 5996 7585 *
HORIZONTAL_DATUM NAD83 *
HORIZONTAL_COORDINATE_SYSTEM UTM *
COORDINATE_ZONE 10 *
HORIZONTAL_UNITS METERS *
HORIZONTAL_RESOLUTION 1.0 *
SECONDARY_HORIZONTAL_DATUM NAD27 *
XY_ORIGIN 541656.043 4539208.914 *
SECONDARY_XY_ORIGIN 541751.971 4539011.923 *
NATION US *
STATE CA *
NW_QUAD_CORNER_XY 542050.841 4538877.438 *
NE_QUAD_CORNER_XY 547307.219 4538909.414 *
SE_QUAD_CORNER_XY 547351.879 4531971.311 *
SW_QUAD_CORNER_XY 542090.539 4531939.345 *
SECONDARY_NW_QUAD_XY 542051.975 4538665.543 *
SECONDARY_NE_QUAD_XY 547308.496 4538697.520 *
SECONDARY_SE_QUAD_XY 547353.156 4531759.527 *
SECONDARY_SW_QUAD_XY 542091.672 4531727.561 *
RMSE_XY 1.23 *
IMAGE_SOURCE "BLACK AND WHITE FILM" *
SOURCE_IMAGE_ID "NAPP 10476 51" *
SOURCE_IMAGE_DATE 1998 8 11 *
SOURCE_IMAGE_ID "NAPP 10476 52" *
SOURCE_IMAGE_DATE 1998 8 11 *
SOURCE_IMAGE_ID "NAPP 10487 130" *
SOURCE_IMAGE_DATE 1998 8 27 *
SOURCE_IMAGE_ID "NAPP 10482 95" *
SOURCE_IMAGE_DATE 1998 8 14 *
SOURCE_IMAGE_ID "NAPP 10482 94" *
SOURCE_IMAGE_DATE 1998 8 14 *
SOURCE_IMAGE_ID "NAPP 10486 77" *
SOURCE_IMAGE_DATE 1998 8 24 *
SOURCE_IMAGE_ID "NAPP 10476 47" *
SOURCE_IMAGE_DATE 1998 8 11 *
SOURCE_IMAGE_ID "NAPP 10476 48" *
SOURCE_IMAGE_DATE 1998 8 11 *
SOURCE_IMAGE_ID "NAPP 10486 78" *
SOURCE_IMAGE_DATE 1998 8 24 *
SOURCE_DEM_DATE 2000 0 0 *
AGENCY "WESTERN MAPPING CENTER (WMC)" *
PRODUCER "USDA FS GEOSPATIAL SERVICE AND TECHNOLOGY CENTER" *
PRODUCTION_SYSTEM "ORBIT OR_RECTIFY V.5.2" *
STANDARD_VERSION 1996 12 *
METADATA_DATE 2001 6 4 *
DATA_FILE_SIZE 45485656 *
BYTE_COUNT 5996 * * * * * * * * * * * * * * * *
END_USGS_HEADER *
