BEGIN_USGS_DOQ_HEADER *
QUADRANGLE_NAME "LAMOINE" *
QUADRANT SW *
WEST_LONGITUDE -122 30 0.000 *
EAST_LONGITUDE -122 26 15.000 *
NORTH_LATITUDE 40 56 15.000 *
SOUTH_LATITUDE 40 52 30.000 *
PRODUCTION_DATE 2001 5 30 *
RASTER_ORDER LEFT_RIGHT/TOP_BOTTOM *
BAND_ORGANIZATION "SINGLE FILE" *
BAND_CONTENT BLACK&WHITE *
BITS_PER_PIXEL 8 *
SAMPLES_AND_LINES 6001 7585 *
HORIZONTAL_DATUM NAD83 *
HORIZONTAL_COORDINATE_SYSTEM UTM *
COORDINATE_ZONE 10 *
HORIZONTAL_UNITS METERS *
HORIZONTAL_RESOLUTION 1.0 *
SECONDARY_HORIZONTAL_DATUM NAD27 *
XY_ORIGIN 541696.207 4532270.811 *
SECONDARY_XY_ORIGIN 541792.172 4532073.924 *
NATION US *
STATE CA *
NW_QUAD_CORNER_XY 542090.539 4531939.345 *
NE_QUAD_CORNER_XY 547351.879 4531971.311 *
SE_QUAD_CORNER_XY 547396.483 4525033.283 *
SW_QUAD_CORNER_XY 542130.187 4525001.327 *
SECONDARY_NW_QUAD_XY 542091.672 4531727.561 *
SECONDARY_NE_QUAD_XY 547353.156 4531759.527 *
SECONDARY_SE_QUAD_XY 547397.759 4524821.610 *
SECONDARY_SW_QUAD_XY 542131.320 4524789.653 *
RMSE_XY 1.23 *
IMAGE_SOURCE "BLACK AND WHITE FILM" *
SOURCE_IMAGE_ID "NAPP 10476 53" *
SOURCE_IMAGE_DATE 1998 8 11 *
SOURCE_IMAGE_ID "NAPP 10476 54" *
SOURCE_IMAGE_DATE 1998 8 11 *
SOURCE_IMAGE_ID "NAPP 10476 52" *
SOURCE_IMAGE_DATE 1998 8 11 *
SOURCE_IMAGE_ID "NAPP 10482 97" *
SOURCE_IMAGE_DATE 1998 8 14 *
SOURCE_IMAGE_ID "NAPP 10482 96" *
SOURCE_IMAGE_DATE 1998 8 14 *
SOURCE_IMAGE_ID "NAPP 10482 95" *
SOURCE_IMAGE_DATE 1998 8 14 *
SOURCE_IMAGE_ID "NAPP 10476 45" *
SOURCE_IMAGE_DATE 1998 8 11 *
SOURCE_IMAGE_ID "NAPP 10476 46" *
SOURCE_IMAGE_DATE 1998 8 11 *
SOURCE_IMAGE_ID "NAPP 10476 47" *
SOURCE_IMAGE_DATE 1998 8 11 *
SOURCE_DEM_DATE 2000 0 0 *
AGENCY "WESTERN MAPPING CENTER (WMC)" *
PRODUCER "USDA FS GEOSPATIAL SERVICE AND TECHNOLOGY CENTER" *
PRODUCTION_SYSTEM "ORBIT OR_RECTIFY V.5.2" *
STANDARD_VERSION 1996 12 *
METADATA_DATE 2001 6 4 *
DATA_FILE_SIZE 45523586 *
BYTE_COUNT 6001 * * * * * * * * * * * * * * * *
END_USGS_HEADER *
