BEGIN_USGS_DOQ_HEADER *
QUADRANGLE_NAME "DAMNATION PEAK" 3.45 or 7.5-min. name*
QUADRANT NE quadrant indicator if cell size = 3.75-minutes*
WEST_LONGITUDE -122 33 45.000 signed deg min sec SDDD MM SS.SSS*
EAST_LONGITUDE -122 30 0.000 signed deg min sec SDDD MM SS.SSS*
NORTH_LATITUDE 41 0 0.000 signed deg min sec SDDD MM SS.SSS*
SOUTH_LATITUDE 40 56 15.000 signed deg min sec SDDD MM SS.SSS*
PRODUCTION_DATE 1997 5 1 yyyy mm dd*
RASTER_ORDER LEFT_RIGHT/TOP_BOTTOM video display order*
BAND_ORGANIZATION "SINGLE FILE" single file or BSQ, or BIL or BIP*
BAND_CONTENT BLACK&WHITE black&white or red green blue*
BITS_PER_PIXEL 8 radiometric resolution*
SAMPLES_AND_LINES 5994 7584 number of columns and rows*
HORIZONTAL_DATUM NAD83 primary horizontal datum*
HORIZONTAL_COORDINATE_SYSTEM UTM *
COORDINATE_ZONE 10 coordinate system zone number*
HORIZONTAL_UNITS METERS coordinate system units*
HORIZONTAL_RESOLUTION 1.00 pixel horiz. ground sample distance*
SECONDARY_HORIZONTAL_DATUM NAD27 secondary horizontal datum*
XY_ORIGIN 536398.000 4539178.000 coord. of upper left pixel pri. datum*
SECONDARY_XY_ORIGIN 536493.930 4538981.040 coord upper left pixel sec datum*
NATION US nation code*
STATE CA state fip code*
NW_QUAD_CORNER_XY 536794.470 4538849.224 XY coords. of pri. NW quad corner*
NE_QUAD_CORNER_XY 542050.841 4538877.438 XY coords. of pri. NE quad corner*
SE_QUAD_CORNER_XY 542090.539 4531939.345 XY coords. of pri. SE quad corner*
SW_QUAD_CORNER_XY 536829.206 4531911.140 XY coords. of pri. SW quad corner*
SECONDARY_NW_QUAD_XY 536795.461 4538637.327 XY coords. - sec. NW quad cor.*
SECONDARY_NE_QUAD_XY 542051.973 4538665.541 XY coords. - sec. NE quad cor.*
SECONDARY_SE_QUAD_XY 542091.670 4531727.559 XY coords. - sec. SE quad cor.*
SECONDARY_SW_QUAD_XY 536830.196 4531699.353 XY coords. - sec. SW quad cor.*
RMSE_XY 3.90 doq horiz. accuracy*
IMAGE_SOURCE "BLACK AND WHITE FILM" b&w, cir, natural color, other*
SOURCE_IMAGE_ID "NAPP 6244 104" source image id*
SOURCE_IMAGE_DATE 1993 6 11 source image date as yyyy mm dd*
IMAGE_SOURCE "BLACK AND WHITE FILM" b&w, cir, natural color, other*
SOURCE_IMAGE_ID "NAPP 6244 102" source image id*
SOURCE_IMAGE_DATE 1993 6 11 source image date as yyyy mm dd*
IMAGE_SOURCE "BLACK AND WHITE FILM" b&w, cir, natural color, other*
SOURCE_IMAGE_ID "NAPP 6244 103" source image id*
SOURCE_IMAGE_DATE 1993 6 11 source image date as yyyy mm dd*
IMAGE_SOURCE "BLACK AND WHITE FILM" b&w, cir, natural color, other*
SOURCE_IMAGE_ID "NAPP 6244 107" source image id*
SOURCE_IMAGE_DATE 1993 6 11 source image date as yyyy mm dd*
IMAGE_SOURCE "BLACK AND WHITE FILM" b&w, cir, natural color, other*
SOURCE_IMAGE_ID "NAPP 6244 1" source image id*
SOURCE_IMAGE_DATE 1993 6 11 source image date as yyyy mm dd*
SOURCE_DEM_DATE 1997 5 1 source dem date yyyy mm dd*
AGENCY "WESTERN MAPPING CENTER (WMC)" oversight agency*
PRODUCER "Science Applications International" producer/contractor*
PRODUCTION_SYSTEM "GIS/MAGIC" production system*
STANDARD_VERSION 1996 12 version of DOQ standard*
METADATA_DATE 1997 10 28 date created or changed, yyyy mm dd*
DATA_FILE_SIZE 45464490 data set size in bytes*
BYTE_COUNT 5994 header byte count* * * * * * * * * * * * * * * * * * * *
END_USGS_HEADER *
