BEGIN_USGS_DOQ_HEADER *
QUADRANGLE_NAME "DAMNATION PEAK" *
QUADRANT SW *
WEST_LONGITUDE -122 37 30.000 *
EAST_LONGITUDE -122 33 45.000 *
NORTH_LATITUDE 40 56 15.000 *
SOUTH_LATITUDE 40 52 30.000 *
PRODUCTION_DATE 2001 5 30 *
RASTER_ORDER LEFT_RIGHT/TOP_BOTTOM *
BAND_ORGANIZATION "SINGLE FILE" *
BAND_CONTENT BLACK&WHITE *
BITS_PER_PIXEL 8 *
SAMPLES_AND_LINES 5991 7577 *
HORIZONTAL_DATUM NAD83 *
HORIZONTAL_COORDINATE_SYSTEM UTM *
COORDINATE_ZONE 10 *
HORIZONTAL_UNITS METERS *
HORIZONTAL_RESOLUTION 1.0 *
SECONDARY_HORIZONTAL_DATUM NAD27 *
XY_ORIGIN 531173.250 4532210.641 *
SECONDARY_XY_ORIGIN 531269.228 4532013.809 *
NATION US *
STATE CA *
NW_QUAD_CORNER_XY 531567.879 4531886.697 *
NE_QUAD_CORNER_XY 536829.206 4531911.141 *
SE_QUAD_CORNER_XY 536863.897 4524973.132 *
SW_QUAD_CORNER_XY 531597.614 4524948.695 *
SECONDARY_NW_QUAD_XY 531568.730 4531674.911 *
SECONDARY_NE_QUAD_XY 536830.198 4531699.355 *
SECONDARY_SE_QUAD_XY 536864.889 4524761.457 *
SECONDARY_SW_QUAD_XY 531598.465 4524737.020 *
RMSE_XY 1.23 *
IMAGE_SOURCE "BLACK AND WHITE FILM" *
SOURCE_IMAGE_ID "NAPP 10486 110" *
SOURCE_IMAGE_DATE 1998 8 24 *
SOURCE_IMAGE_ID "NAPP 10486 111" *
SOURCE_IMAGE_DATE 1998 8 24 *
SOURCE_IMAGE_ID "NAPP 10486 109" *
SOURCE_IMAGE_DATE 1998 8 24 *
SOURCE_IMAGE_ID "NAPP 10485 108" *
SOURCE_IMAGE_DATE 1998 8 24 *
SOURCE_IMAGE_ID "NAPP 10485 109" *
SOURCE_IMAGE_DATE 1998 8 24 *
SOURCE_IMAGE_ID "NAPP 10485 110" *
SOURCE_IMAGE_DATE 1998 8 24 *
SOURCE_IMAGE_ID "NAPP 10482 97" *
SOURCE_IMAGE_DATE 1998 8 14 *
SOURCE_IMAGE_ID "NAPP 10482 96" *
SOURCE_IMAGE_DATE 1998 8 14 *
SOURCE_IMAGE_ID "NAPP 10482 95" *
SOURCE_IMAGE_DATE 1998 8 14 *
SOURCE_DEM_DATE 2000 0 0 *
AGENCY "WESTERN MAPPING CENTER (WMC)" *
PRODUCER "USDA FS GEOSPATIAL SERVICE AND TECHNOLOGY CENTER" *
PRODUCTION_SYSTEM "ORBIT OR_RECTIFY V.5.2" *
STANDARD_VERSION 1996 12 *
METADATA_DATE 2001 6 4 *
DATA_FILE_SIZE 45399798 *
BYTE_COUNT 5991 * * * * * * * * * * * * * * * *
END_USGS_HEADER *
