BEGIN_USGS_DOQ_HEADER *
QUADRANGLE_NAME "TRINITY CENTER" 3.45 or 7.5-min. name*
QUADRANT NE quadrant indicator if cell size = 3.75-minutes*
WEST_LONGITUDE -122 41 15.000 signed deg min sec SDDD MM SS.SSS*
EAST_LONGITUDE -122 37 30.000 signed deg min sec SDDD MM SS.SSS*
NORTH_LATITUDE 41 0 0.000 signed deg min sec SDDD MM SS.SSS*
SOUTH_LATITUDE 40 56 15.000 signed deg min sec SDDD MM SS.SSS*
PRODUCTION_DATE 1996 4 1 yyyy mm dd*
RASTER_ORDER LEFT_RIGHT/TOP_BOTTOM video display order*
BAND_ORGANIZATION "SINGLE FILE" single file or BSQ, or BIL or BIP*
BAND_CONTENT BLACK&WHITE black&white or red green blue*
BITS_PER_PIXEL 8 radiometric resolution*
SAMPLES_AND_LINES 5991 7584 number of columns and rows*
HORIZONTAL_DATUM NAD83 primary horizontal datum*
HORIZONTAL_COORDINATE_SYSTEM UTM *
COORDINATE_ZONE 10 coordinate system zone number*
HORIZONTAL_UNITS METERS coordinate system units*
HORIZONTAL_RESOLUTION 1.00 pixel horiz. ground sample distance*
SECONDARY_HORIZONTAL_DATUM NAD27 secondary horizontal datum*
XY_ORIGIN 525882.500 4539129.500 coord. of upper left pixel pri. datum*
SECONDARY_XY_ORIGIN 525978.430 4538932.605 coord upper left pixel sec datum*
NATION US nation code*
STATE CA state fip code*
NW_QUAD_CORNER_XY 526281.747 4538804.083 XY coords. of pri. NW quad corner*
NE_QUAD_CORNER_XY 531538.106 4538824.773 XY coords. of pri. NE quad corner*
SE_QUAD_CORNER_XY 531567.879 4531886.697 XY coords. of pri. SE quad corner*
SW_QUAD_CORNER_XY 526306.558 4531866.014 XY coords. of pri. SW quad corner*
SECONDARY_NW_QUAD_XY 526282.454 4538592.185 XY coords. - sec. NW quad cor.*
SECONDARY_NE_QUAD_XY 531538.955 4538612.875 XY coords. - sec. NE quad cor.*
SECONDARY_SE_QUAD_XY 531568.727 4531674.909 XY coords. - sec. SE quad cor.*
SECONDARY_SW_QUAD_XY 526307.265 4531654.225 XY coords. - sec. SW quad cor.*
RMSE_XY 2.90 doq horiz. accuracy*
IMAGE_SOURCE "BLACK AND WHITE FILM" b&w, cir, natural color, other*
SOURCE_IMAGE_ID "PAPP 5255 666" source image id*
SOURCE_IMAGE_DATE 1993 8 26 source image date as yyyy mm dd*
SOURCE_DEM_DATE 1996 4 1 source dem date yyyy mm dd*
AGENCY "WESTERN MAPPING CENTER (WMC)" oversight agency*
PRODUCER "Woolpert Consultants" producer/contractor*
PRODUCTION_SYSTEM "INTERGRAPH ISPM,ISIR" production system*
STANDARD_VERSION 1996 12 version of DOQ standard*
METADATA_DATE 1997 5 27 date created or changed, yyyy mm dd*
DATA_FILE_SIZE 45441735 data set size in bytes*
BYTE_COUNT 5991 header byte count* * * * * * * * * * * * * * * * * * * * * * * * * * * * * * * *
END_USGS_HEADER *
