BEGIN_USGS_DOQ_HEADER *
QUADRANGLE_NAME "TRINITY CENTER" *
QUADRANT SW *
WEST_LONGITUDE -122 45 0.000 *
EAST_LONGITUDE -122 41 15.000 *
NORTH_LATITUDE 40 56 15.000 *
SOUTH_LATITUDE 40 52 30.000 *
PRODUCTION_DATE 2001 5 8 *
RASTER_ORDER LEFT_RIGHT/TOP_BOTTOM *
BAND_ORGANIZATION "SINGLE FILE" *
BAND_CONTENT BLACK&WHITE *
BITS_PER_PIXEL 8 *
SAMPLES_AND_LINES 5982 7570 *
HORIZONTAL_DATUM NAD83 *
HORIZONTAL_COORDINATE_SYSTEM UTM *
COORDINATE_ZONE 10 *
HORIZONTAL_UNITS METERS *
HORIZONTAL_RESOLUTION 1.0 *
SECONDARY_HORIZONTAL_DATUM NAD27 *
XY_ORIGIN 520649.815 4532166.014 *
SECONDARY_XY_ORIGIN 520745.810 4531969.236 *
NATION US *
STATE CA *
NW_QUAD_CORNER_XY 521045.241 4531849.091 *
NE_QUAD_CORNER_XY 526306.558 4531866.014 *
SE_QUAD_CORNER_XY 526331.337 4524928.019 *
SW_QUAD_CORNER_XY 521065.064 4524911.102 *
SECONDARY_NW_QUAD_XY 521045.810 4531637.304 *
SECONDARY_NE_QUAD_XY 526307.267 4531654.227 *
SECONDARY_SE_QUAD_XY 526332.046 4524716.343 *
SECONDARY_SW_QUAD_XY 521065.632 4524699.425 *
RMSE_XY 1.95 *
IMAGE_SOURCE "BLACK AND WHITE FILM" *
SOURCE_IMAGE_ID "NAPP 10485 82" *
SOURCE_IMAGE_DATE 1998 8 24 *
SOURCE_IMAGE_ID "NAPP 10485 83" *
SOURCE_IMAGE_DATE 1998 8 24 *
SOURCE_IMAGE_ID "NAPP 10485 81" *
SOURCE_IMAGE_DATE 1998 8 24 *
SOURCE_IMAGE_ID "NAPP 10486 135" *
SOURCE_IMAGE_DATE 1998 8 24 *
SOURCE_IMAGE_ID "NAPP 10486 134" *
SOURCE_IMAGE_DATE 1998 8 24 *
SOURCE_IMAGE_ID "NAPP 10486 133" *
SOURCE_IMAGE_DATE 1998 8 24 *
SOURCE_IMAGE_ID "NAPP 10485 108" *
SOURCE_IMAGE_DATE 1998 8 24 *
SOURCE_IMAGE_ID "NAPP 10485 109" *
SOURCE_IMAGE_DATE 1998 8 24 *
SOURCE_IMAGE_ID "NAPP 10485 110" *
SOURCE_IMAGE_DATE 1998 8 24 *
SOURCE_DEM_DATE 2000 0 0 *
AGENCY "WESTERN MAPPING CENTER (WMC)" *
PRODUCER "USDA FS GEOSPATIAL SERVICE AND TECHNOLOGY CENTER" *
PRODUCTION_SYSTEM "ORBIT OR_RECTIFY V.5.2" *
STANDARD_VERSION 1996 12 *
METADATA_DATE 2001 5 16 *
DATA_FILE_SIZE 45289722 *
BYTE_COUNT 5982 * * * * * * * * * * * * * * * *
END_USGS_HEADER *
