BEGIN_USGS_DOQ_HEADER *
QUADRANGLE_NAME "COVINGTON MILL" *
QUADRANT NE *
WEST_LONGITUDE -122 48 45.000 *
EAST_LONGITUDE -122 45 0.000 *
NORTH_LATITUDE 41 0 0.000 *
SOUTH_LATITUDE 40 56 15.000 *
PRODUCTION_DATE 2001 5 8 *
RASTER_ORDER LEFT_RIGHT/TOP_BOTTOM *
BAND_ORGANIZATION "SINGLE FILE" *
BAND_CONTENT BLACK&WHITE *
BITS_PER_PIXEL 8 *
SAMPLES_AND_LINES 5972 7566 *
HORIZONTAL_DATUM NAD83 *
HORIZONTAL_COORDINATE_SYSTEM UTM *
COORDINATE_ZONE 10 *
HORIZONTAL_UNITS METERS *
HORIZONTAL_RESOLUTION 1.0 *
SECONDARY_HORIZONTAL_DATUM NAD27 *
XY_ORIGIN 515373.455 4539087.156 *
SECONDARY_XY_ORIGIN 515469.472 4538890.335 *
NATION US *
STATE CA *
NW_QUAD_CORNER_XY 515769.041 4538773.990 *
NE_QUAD_CORNER_XY 521025.392 4538787.156 *
SE_QUAD_CORNER_XY 521045.241 4531849.091 *
SW_QUAD_CORNER_XY 515783.927 4531835.929 *
SECONDARY_NW_QUAD_XY 515769.469 4538562.092 *
SECONDARY_NE_QUAD_XY 521025.962 4538575.258 *
SECONDARY_SE_QUAD_XY 521045.810 4531637.304 *
SECONDARY_SW_QUAD_XY 515784.355 4531624.141 *
RMSE_XY 1.95 *
IMAGE_SOURCE "BLACK AND WHITE FILM" *
SOURCE_IMAGE_ID "NAPP 10486 132" *
SOURCE_IMAGE_DATE 1998 8 24 *
SOURCE_IMAGE_ID "NAPP 10486 133" *
SOURCE_IMAGE_DATE 1998 8 24 *
SOURCE_IMAGE_ID "NAPP 10486 131" *
SOURCE_IMAGE_DATE 1998 8 24 *
SOURCE_IMAGE_ID "NAPP 10486 54" *
SOURCE_IMAGE_DATE 1998 8 24 *
SOURCE_IMAGE_ID "NAPP 10486 55" *
SOURCE_IMAGE_DATE 1998 8 24 *
SOURCE_IMAGE_ID "NAPP 10492 39" *
SOURCE_IMAGE_DATE 1998 9 20 *
SOURCE_IMAGE_ID "NAPP 10485 81" *
SOURCE_IMAGE_DATE 1998 8 24 *
SOURCE_IMAGE_ID "NAPP 10485 80" *
SOURCE_IMAGE_DATE 1998 8 24 *
SOURCE_IMAGE_ID "NAPP 10485 79" *
SOURCE_IMAGE_DATE 1998 8 24 *
SOURCE_DEM_DATE 2000 0 0 *
AGENCY "WESTERN MAPPING CENTER (WMC)" *
PRODUCER "USDA FS GEOSPATIAL SERVICE AND TECHNOLOGY CENTER" *
PRODUCTION_SYSTEM "ORBIT OR_RECTIFY V.5.2" *
STANDARD_VERSION 1996 12 *
METADATA_DATE 2001 5 16 *
DATA_FILE_SIZE 45190124 *
BYTE_COUNT 5972 * * * * * * * * * * * * * * * *
END_USGS_HEADER *
