BEGIN_USGS_DOQ_HEADER *
QUADRANGLE_NAME "COVINGTON MILL" *
QUADRANT SW *
WEST_LONGITUDE -122 52 30.000 *
EAST_LONGITUDE -122 48 45.000 *
NORTH_LATITUDE 40 56 15.000 *
SOUTH_LATITUDE 40 52 30.000 *
PRODUCTION_DATE 2001 5 8 *
RASTER_ORDER LEFT_RIGHT/TOP_BOTTOM *
BAND_ORGANIZATION "SINGLE FILE" *
BAND_CONTENT BLACK&WHITE *
BITS_PER_PIXEL 8 *
SAMPLES_AND_LINES 5972 7562 *
HORIZONTAL_DATUM NAD83 *
HORIZONTAL_COORDINATE_SYSTEM UTM *
COORDINATE_ZONE 10 *
HORIZONTAL_UNITS METERS *
HORIZONTAL_RESOLUTION 1.0 *
SECONDARY_HORIZONTAL_DATUM NAD27 *
XY_ORIGIN 510126.790 4532135.929 *
SECONDARY_XY_ORIGIN 510222.905 4531939.203 *
NATION US *
STATE CA *
NW_QUAD_CORNER_XY 510522.617 4531826.528 *
NE_QUAD_CORNER_XY 515783.927 4531835.929 *
SE_QUAD_CORNER_XY 515798.795 4524897.944 *
SW_QUAD_CORNER_XY 510532.528 4524888.546 *
SECONDARY_NW_QUAD_XY 510522.903 4531614.740 *
SECONDARY_NE_QUAD_XY 515784.355 4531624.141 *
SECONDARY_SE_QUAD_XY 515799.222 4524686.267 *
SECONDARY_SW_QUAD_XY 510532.814 4524676.868 *
RMSE_XY 1.95 *
IMAGE_SOURCE "BLACK AND WHITE FILM" *
SOURCE_IMAGE_ID "NAPP 10486 53" *
SOURCE_IMAGE_DATE 1998 8 24 *
SOURCE_IMAGE_ID "NAPP 10486 52" *
SOURCE_IMAGE_DATE 1998 8 24 *
SOURCE_IMAGE_ID "NAPP 10486 54" *
SOURCE_IMAGE_DATE 1998 8 24 *
SOURCE_IMAGE_ID "NAPP 10486 116" *
SOURCE_IMAGE_DATE 1998 8 24 *
SOURCE_IMAGE_ID "NAPP 10486 117" *
SOURCE_IMAGE_DATE 1998 8 24 *
SOURCE_IMAGE_ID "NAPP 10486 118" *
SOURCE_IMAGE_DATE 1998 8 24 *
SOURCE_IMAGE_ID "NAPP 10486 135" *
SOURCE_IMAGE_DATE 1998 8 24 *
SOURCE_IMAGE_ID "NAPP 10486 134" *
SOURCE_IMAGE_DATE 1998 8 24 *
SOURCE_IMAGE_ID "NAPP 10486 133" *
SOURCE_IMAGE_DATE 1998 8 24 *
SOURCE_DEM_DATE 2000 0 0 *
AGENCY "WESTERN MAPPING CENTER (WMC)" *
PRODUCER "USDA FS GEOSPATIAL SERVICE AND TECHNOLOGY CENTER" *
PRODUCTION_SYSTEM "ORBIT OR_RECTIFY V.5.2" *
STANDARD_VERSION 1996 12 *
METADATA_DATE 2001 5 16 *
DATA_FILE_SIZE 45166236 *
BYTE_COUNT 5972 * * * * * * * * * * * * * * * *
END_USGS_HEADER *
