BEGIN_USGS_DOQ_HEADER *
QUADRANGLE_NAME "SILIGO PEAK" 3.45 or 7.5-min. name*
QUADRANT NE quadrant indicator if cell size = 3.75-minutes*
WEST_LONGITUDE -122 56 15.000 signed deg min sec SDDD MM SS.SSS*
EAST_LONGITUDE -122 52 30.000 signed deg min sec SDDD MM SS.SSS*
NORTH_LATITUDE 41 0 0.000 signed deg min sec SDDD MM SS.SSS*
SOUTH_LATITUDE 40 56 15.000 signed deg min sec SDDD MM SS.SSS*
PRODUCTION_DATE 1996 4 1 yyyy mm dd*
RASTER_ORDER LEFT_RIGHT/TOP_BOTTOM video display order*
BAND_ORGANIZATION "SINGLE FILE" single file or BSQ, or BIL or BIP*
BAND_CONTENT BLACK&WHITE black&white or red green blue*
BITS_PER_PIXEL 8 radiometric resolution*
SAMPLES_AND_LINES 5973 7569 number of columns and rows*
HORIZONTAL_DATUM NAD83 primary horizontal datum*
HORIZONTAL_COORDINATE_SYSTEM UTM *
COORDINATE_ZONE 10 coordinate system zone number*
HORIZONTAL_UNITS METERS coordinate system units*
HORIZONTAL_RESOLUTION 1.00 pixel horiz. ground sample distance*
SECONDARY_HORIZONTAL_DATUM NAD27 secondary horizontal datum*
XY_ORIGIN 504855.500 4539069.500 coord. of upper left pixel pri. datum*
SECONDARY_XY_ORIGIN 504951.669 4538872.754 coord upper left pixel sec datum*
NATION US nation code*
STATE CA state fip code*
NW_QUAD_CORNER_XY 505256.346 4538758.943 XY coords. of pri. NW quad corner*
NE_QUAD_CORNER_XY 510512.693 4538764.585 XY coords. of pri. NE quad corner*
SE_QUAD_CORNER_XY 510522.617 4531826.528 XY coords. of pri. SE quad corner*
SW_QUAD_CORNER_XY 505261.308 4531820.887 XY coords. of pri. SW quad corner*
SECONDARY_NW_QUAD_XY 505256.487 4538547.043 XY coords. - sec. NW quad cor.*
SECONDARY_NE_QUAD_XY 510512.975 4538552.685 XY coords. - sec. NE quad cor.*
SECONDARY_SE_QUAD_XY 510522.900 4531614.738 XY coords. - sec. SE quad cor.*
SECONDARY_SW_QUAD_XY 505261.449 4531609.097 XY coords. - sec. SW quad cor.*
RMSE_XY 3.50 doq horiz. accuracy*
IMAGE_SOURCE "BLACK AND WHITE FILM" b&w, cir, natural color, other*
SOURCE_IMAGE_ID "PAPP 4254 969" source image id*
SOURCE_IMAGE_DATE 1993 8 25 source image date as yyyy mm dd*
IMAGE_SOURCE "BLACK AND WHITE FILM" b&w, cir, natural color, other*
SOURCE_IMAGE_ID "PAPP 4254 868" source image id*
SOURCE_IMAGE_DATE 1993 8 25 source image date as yyyy mm dd*
IMAGE_SOURCE "BLACK AND WHITE FILM" b&w, cir, natural color, other*
SOURCE_IMAGE_ID "PAPP 4254 070" source image id*
SOURCE_IMAGE_DATE 1993 8 25 source image date as yyyy mm dd*
SOURCE_DEM_DATE 1996 4 1 source dem date yyyy mm dd*
AGENCY "WESTERN MAPPING CENTER (WMC)" oversight agency*
PRODUCER "Woolpert Consultants" producer/contractor*
PRODUCTION_SYSTEM "INTERGRAPH ISPM,ISIR" production system*
STANDARD_VERSION 1996 12 version of DOQ standard*
METADATA_DATE 1997 5 27 date created or changed, yyyy mm dd*
DATA_FILE_SIZE 45215610 data set size in bytes*
BYTE_COUNT 5973 header byte count* * * * * * * * * * * * * * * * * * * * * * * * * *
END_USGS_HEADER *
