BEGIN_USGS_DOQ_HEADER *
QUADRANGLE_NAME "SILIGO PEAK" *
QUADRANT NE *
WEST_LONGITUDE -122 56 15.000 *
EAST_LONGITUDE -122 52 30.000 *
NORTH_LATITUDE 41 0 0.000 *
SOUTH_LATITUDE 40 56 15.000 *
PRODUCTION_DATE 2001 7 23 *
RASTER_ORDER LEFT_RIGHT/TOP_BOTTOM *
BAND_ORGANIZATION "SINGLE FILE" *
BAND_CONTENT BLACK&WHITE *
BITS_PER_PIXEL 8 *
SAMPLES_AND_LINES 5962 7559 *
HORIZONTAL_DATUM NAD83 *
HORIZONTAL_COORDINATE_SYSTEM UTM *
COORDINATE_ZONE 10 *
HORIZONTAL_UNITS METERS *
HORIZONTAL_RESOLUTION 1.0 *
SECONDARY_HORIZONTAL_DATUM NAD27 *
XY_ORIGIN 504860.322 4539064.085 *
SECONDARY_XY_ORIGIN 504956.495 4538867.342 *
NATION US *
STATE CA *
NW_QUAD_CORNER_XY 505256.346 4538758.943 *
NE_QUAD_CORNER_XY 510512.693 4538764.585 *
SE_QUAD_CORNER_XY 510522.617 4531826.528 *
SW_QUAD_CORNER_XY 505261.308 4531820.887 *
SECONDARY_NW_QUAD_XY 505256.491 4538547.045 *
SECONDARY_NE_QUAD_XY 510512.979 4538552.688 *
SECONDARY_SE_QUAD_XY 510522.903 4531614.740 *
SECONDARY_SW_QUAD_XY 505261.453 4531609.099 *
RMSE_XY 2.58 *
IMAGE_SOURCE "BLACK AND WHITE FILM" *
SOURCE_IMAGE_ID "NAPP 10486 119" *
SOURCE_IMAGE_DATE 1998 8 24 *
SOURCE_IMAGE_ID "NAPP 10486 118" *
SOURCE_IMAGE_DATE 1998 8 24 *
SOURCE_IMAGE_ID "NAPP 10486 120" *
SOURCE_IMAGE_DATE 1998 8 24 *
SOURCE_IMAGE_ID "NAPP 10486 45" *
SOURCE_IMAGE_DATE 1998 8 24 *
SOURCE_IMAGE_ID "NAPP 10486 44" *
SOURCE_IMAGE_DATE 1998 8 24 *
SOURCE_IMAGE_ID "NAPP 10486 43" *
SOURCE_IMAGE_DATE 1998 8 24 *
SOURCE_DEM_DATE 1982 0 0 *
AGENCY "WESTERN MAPPING CENTER (WMC)" *
PRODUCER "USDA FS GEOSPATIAL SERVICE AND TECHNOLOGY CENTER" *
PRODUCTION_SYSTEM "ORBIT OR_RECTIFY V.5.2" *
STANDARD_VERSION 1996 12 *
METADATA_DATE 2001 7 24 *
DATA_FILE_SIZE 45072720 *
BYTE_COUNT 5962 * * * * * * * * * * * * * * * * * * * * * *
END_USGS_HEADER *
